BEGIN:VCALENDAR
VERSION:2.0
PRODID:-//South Safe - ECPv6.15.20//NONSGML v1.0//EN
CALSCALE:GREGORIAN
METHOD:PUBLISH
X-ORIGINAL-URL:https://southsafe.org.au
X-WR-CALDESC:Events for South Safe
REFRESH-INTERVAL;VALUE=DURATION:PT1H
X-Robots-Tag:noindex
X-PUBLISHED-TTL:PT1H
BEGIN:VTIMEZONE
TZID:Australia/Melbourne
BEGIN:STANDARD
TZOFFSETFROM:+1100
TZOFFSETTO:+1000
TZNAME:AEST
DTSTART:20250405T160000
END:STANDARD
BEGIN:DAYLIGHT
TZOFFSETFROM:+1000
TZOFFSETTO:+1100
TZNAME:AEDT
DTSTART:20251004T160000
END:DAYLIGHT
BEGIN:STANDARD
TZOFFSETFROM:+1100
TZOFFSETTO:+1000
TZNAME:AEST
DTSTART:20260404T160000
END:STANDARD
BEGIN:DAYLIGHT
TZOFFSETFROM:+1000
TZOFFSETTO:+1100
TZNAME:AEDT
DTSTART:20261003T160000
END:DAYLIGHT
BEGIN:STANDARD
TZOFFSETFROM:+1100
TZOFFSETTO:+1000
TZNAME:AEST
DTSTART:20270403T160000
END:STANDARD
BEGIN:DAYLIGHT
TZOFFSETFROM:+1000
TZOFFSETTO:+1100
TZNAME:AEDT
DTSTART:20271002T160000
END:DAYLIGHT
END:VTIMEZONE
BEGIN:VEVENT
DTSTART;TZID=Australia/Melbourne:20260420T180000
DTEND;TZID=Australia/Melbourne:20260420T193000
DTSTAMP:20260426T101445
CREATED:20260331T235009Z
LAST-MODIFIED:20260331T235009Z
UID:10001996-1776708000-1776713400@southsafe.org.au
SUMMARY:Pleasure for EveryBODY: Accessible & Inclusive Intimacy for People with Disabilities
DESCRIPTION:About This Series \nPleasure\, intimacy and relationships are a vital part of wellbeing and everybody deserves access to affirming\, inclusive information and spaces to explore these topics safely. \nThis two-part workshop series is designed specifically for women and gender diverse people with a disability. The sessions will provide practical\, empowering and inclusive information about pleasure\, consent\, communication and sexual wellbeing in a relaxed and respectful environment. \nThe workshops are facilitated by experienced educators and are grounded in a rights-based and inclusive framework. There is no expectation to share personal experiences: participants are welcome to engage at their own comfort level. \nPlease note: these sessions will be offered in-person only\, they will not be recorded or available online. \nSession 1  \nExploring Pleasure\, Consent & Communication \nThis session focuses on building confidence and understanding around pleasure and communication. \nWe will explore: \n\nWhat pleasure means and why it matters for wellbeing\n\n\nUnderstanding affirmative consent as ongoing and mutual\n\n\nCommunicating boundaries\, desires and comfort levels\n\n\nChallenging stigma and myths about disability and sexuality\n\n\nPractical language and tools for real-life situations\n\n\nFree cervical screening self-collection available
URL:https://southsafe.org.au/event/pleasure-for-everybody-accessible-inclusive-intimacy-for-people-with-disabilities/
LOCATION:Toorak/South Yarra Library\, 340 Toorak Road\, Toorak\, VIC\, 3141
END:VEVENT
END:VCALENDAR