BEGIN:VCALENDAR
VERSION:2.0
PRODID:-//South Safe - ECPv6.15.20//NONSGML v1.0//EN
CALSCALE:GREGORIAN
METHOD:PUBLISH
X-WR-CALNAME:South Safe
X-ORIGINAL-URL:https://southsafe.org.au
X-WR-CALDESC:Events for South Safe
REFRESH-INTERVAL;VALUE=DURATION:PT1H
X-Robots-Tag:noindex
X-PUBLISHED-TTL:PT1H
BEGIN:VTIMEZONE
TZID:Australia/Melbourne
BEGIN:STANDARD
TZOFFSETFROM:+1100
TZOFFSETTO:+1000
TZNAME:AEST
DTSTART:20210403T160000
END:STANDARD
BEGIN:DAYLIGHT
TZOFFSETFROM:+1000
TZOFFSETTO:+1100
TZNAME:AEDT
DTSTART:20211002T160000
END:DAYLIGHT
BEGIN:STANDARD
TZOFFSETFROM:+1100
TZOFFSETTO:+1000
TZNAME:AEST
DTSTART:20220402T160000
END:STANDARD
BEGIN:DAYLIGHT
TZOFFSETFROM:+1000
TZOFFSETTO:+1100
TZNAME:AEDT
DTSTART:20221001T160000
END:DAYLIGHT
BEGIN:STANDARD
TZOFFSETFROM:+1100
TZOFFSETTO:+1000
TZNAME:AEST
DTSTART:20230401T160000
END:STANDARD
BEGIN:DAYLIGHT
TZOFFSETFROM:+1000
TZOFFSETTO:+1100
TZNAME:AEDT
DTSTART:20230930T160000
END:DAYLIGHT
BEGIN:STANDARD
TZOFFSETFROM:+1100
TZOFFSETTO:+1000
TZNAME:AEST
DTSTART:20240406T160000
END:STANDARD
BEGIN:DAYLIGHT
TZOFFSETFROM:+1000
TZOFFSETTO:+1100
TZNAME:AEDT
DTSTART:20241005T160000
END:DAYLIGHT
BEGIN:STANDARD
TZOFFSETFROM:+1100
TZOFFSETTO:+1000
TZNAME:AEST
DTSTART:20250405T160000
END:STANDARD
BEGIN:DAYLIGHT
TZOFFSETFROM:+1000
TZOFFSETTO:+1100
TZNAME:AEDT
DTSTART:20251004T160000
END:DAYLIGHT
BEGIN:STANDARD
TZOFFSETFROM:+1100
TZOFFSETTO:+1000
TZNAME:AEST
DTSTART:20260404T160000
END:STANDARD
BEGIN:DAYLIGHT
TZOFFSETFROM:+1000
TZOFFSETTO:+1100
TZNAME:AEDT
DTSTART:20261003T160000
END:DAYLIGHT
BEGIN:STANDARD
TZOFFSETFROM:+1100
TZOFFSETTO:+1000
TZNAME:AEST
DTSTART:20270403T160000
END:STANDARD
BEGIN:DAYLIGHT
TZOFFSETFROM:+1000
TZOFFSETTO:+1100
TZNAME:AEDT
DTSTART:20271002T160000
END:DAYLIGHT
END:VTIMEZONE
BEGIN:VEVENT
DTSTART;TZID=Australia/Melbourne:20260305T093000
DTEND;TZID=Australia/Melbourne:20260305T123000
DTSTAMP:20260420T061355
CREATED:20260302T062515Z
LAST-MODIFIED:20260302T062515Z
UID:10001976-1772703000-1772713800@southsafe.org.au
SUMMARY:2026 Kingston Women of the Year Awards
DESCRIPTION:Join us as we celebrate International Women’s Day. \nThe annual Kingston Women of the Year Awards will be presented at the International Women’s Day ceremony on Thursday 5 March 2026. The Awards celebrate the outstanding contribution that women make to industry\, community and society. \nNominees are women who are leaders in their field\, who inspire others\, and who make a difference to our community through their exceptional professional and personal achievements. \nWe are celebrating nominees across four award categories: \n\nYoung Woman of the Year – Rising Star Award\nCourageous Commitment\nExcelling in Arts or Sport\nImpact in STEM or Innovation.\n\nWhat to expect \n\nKingston Women of the Year Awards presentation\nkeynote address by Shelley Ware\, Australian Aboriginal TV personality and passionate advocate for women in sport and education\nAfrican dance performances by Mzuri Dance ArtisTree\nmorning tea and coffee on arrival\nlight refreshments following the ceremony.\n\nRegister here
URL:https://southsafe.org.au/event/2026-kingston-women-of-the-year-awards/
LOCATION:Kingston City Hall\, 979-985 Nepean Hwy\, Moorabbin\, Victoria\, 3189\, Australia
ORGANIZER;CN="City of Kingston":MAILTO:info@kingston.vic.gov.au
GEO:-37.933839;145.0361172
X-APPLE-STRUCTURED-LOCATION;VALUE=URI;X-ADDRESS=Kingston City Hall 979-985 Nepean Hwy Moorabbin Victoria 3189 Australia;X-APPLE-RADIUS=500;X-TITLE=979-985 Nepean Hwy:geo:145.0361172,-37.933839
END:VEVENT
BEGIN:VEVENT
DTSTART;TZID=Australia/Melbourne:20230530T093000
DTEND;TZID=Australia/Melbourne:20230530T133000
DTSTAMP:20260420T061355
CREATED:20230510T051417Z
LAST-MODIFIED:20230510T051417Z
UID:10001180-1685439000-1685453400@southsafe.org.au
SUMMARY:Navigating AOD Services | Peninsula Health
DESCRIPTION:This forum is for providers in the Bayside Peninsula Area. \nThe Bayside Peninsula Area catchment planning group invite local service providers to a forum to help them understand how to navigate AOD services in the Bayside Peninsula area. Morning tea and lunch provided. \nIntended audience: Managers and team leaders of support services that might refer clients for AOD. \nThe forum presenters are all senior managers of local AOD services in the Bayside Peninsula Area\, including Peninsula Health\, Star Health\, TaskForce\, Anglicare\, SHARC\, Salvation Army\, Alfred Health\, WIndana\, YSAS\, First Step and Thorne Harbour. \nIn addition to the formal presentations\, you will have good access to the AOD managers to ask questions. \nClick here for more information and to register
URL:https://southsafe.org.au/event/navigating-aod-services-peninsula-health/
LOCATION:Kingston City Hall\, 979-985 Nepean Hwy\, Moorabbin\, Victoria\, 3189\, Australia
CATEGORIES:AOD,For Professionals/Practitioners,Forum
ATTACH;FMTTYPE=image/jpeg:https://southsafe.org.au/wp-content/uploads/2023/05/the-climate-reality-project-Hb6uWq0i4MI-unsplash.jpg
GEO:-37.933839;145.0361172
X-APPLE-STRUCTURED-LOCATION;VALUE=URI;X-ADDRESS=Kingston City Hall 979-985 Nepean Hwy Moorabbin Victoria 3189 Australia;X-APPLE-RADIUS=500;X-TITLE=979-985 Nepean Hwy:geo:145.0361172,-37.933839
END:VEVENT
BEGIN:VEVENT
DTSTART;TZID=Australia/Melbourne:20230426T093000
DTEND;TZID=Australia/Melbourne:20230426T163000
DTSTAMP:20260420T061355
CREATED:20230207T043607Z
LAST-MODIFIED:20230517T064555Z
UID:10001006-1682501400-1682526600@southsafe.org.au
SUMMARY:MARAM Collaborative Practice Moorabin | BPIFVP
DESCRIPTION:This training is open to any professional in the Bayside-Peninsula region of Melbourne who responds to family violence. \nExplore how to contribute to risk assessment and collaborate for ongoing risk management through respectful and sensitive engagement with victim survivors\, information sharing\, referral and secondary consultation. \nThis is not risk assessment training\, but forms an integral component of the MARAM suite of training for professionals responding to family violence. \nTraining will be face to face. If unable to attend in-person please look at online sessions \nClick here to register \nClick here to view other dates and locations \n 
URL:https://southsafe.org.au/event/maram-collaborative-practice-moorabin-bpifvp/
LOCATION:Kingston City Hall\, 979-985 Nepean Hwy\, Moorabbin\, Victoria\, 3189\, Australia
CATEGORIES:Family Violence,For Professionals/Practitioners,MARAM Collaborative Practice,Professional Development,Training
ATTACH;FMTTYPE=image/png:https://southsafe.org.au/wp-content/uploads/2023/03/Final-BPIFVP-logo-2-300x110-1.png
ORGANIZER;CN="Bayside Peninsula Integrated Family Violence Partnership":MAILTO:bpifvp@vt.uniting.org
GEO:-37.933839;145.0361172
X-APPLE-STRUCTURED-LOCATION;VALUE=URI;X-ADDRESS=Kingston City Hall 979-985 Nepean Hwy Moorabbin Victoria 3189 Australia;X-APPLE-RADIUS=500;X-TITLE=979-985 Nepean Hwy:geo:145.0361172,-37.933839
END:VEVENT
BEGIN:VEVENT
DTSTART;TZID=Australia/Melbourne:20221122T100000
DTEND;TZID=Australia/Melbourne:20221122T150000
DTSTAMP:20260420T061355
CREATED:20221113T044119Z
LAST-MODIFIED:20221113T044119Z
UID:10000911-1669111200-1669129200@southsafe.org.au
SUMMARY:Senior Services in Kingston | City of Kingston
DESCRIPTION:Come along to Kingston’s inaugural Seniors Services Expo to:\n– Meet various service providers\n– Make informed choices about services for you \nTo find out more:\nContact our Social Inclusion Officer on 0409 767 438 or email info@kingston.vic.gov.au
URL:https://southsafe.org.au/event/senior-services-in-kingston-city-of-kingston/
LOCATION:Kingston City Hall\, 979-985 Nepean Hwy\, Moorabbin\, Victoria\, 3189\, Australia
CATEGORIES:Elder,Event
ATTACH;FMTTYPE=image/png:https://southsafe.org.au/wp-content/uploads/2022/08/Kingston.png
ORGANIZER;CN="City of Kingston":MAILTO:info@kingston.vic.gov.au
GEO:-37.933839;145.0361172
X-APPLE-STRUCTURED-LOCATION;VALUE=URI;X-ADDRESS=Kingston City Hall 979-985 Nepean Hwy Moorabbin Victoria 3189 Australia;X-APPLE-RADIUS=500;X-TITLE=979-985 Nepean Hwy:geo:145.0361172,-37.933839
END:VEVENT
BEGIN:VEVENT
DTSTART;TZID=Australia/Melbourne:20220427T103000
DTEND;TZID=Australia/Melbourne:20220427T123000
DTSTAMP:20260420T061355
CREATED:20220408T000120Z
LAST-MODIFIED:20220408T000120Z
UID:10000805-1651055400-1651062600@southsafe.org.au
SUMMARY:Elder Law Workshop | Kingston Council and Peninsula Community Legal Centre
DESCRIPTION:When: Wed 27 Apr\, 10.30am-12.30pm \nWhere: Kingston City Hall\, 985 Nepean Hwy\, Moorabbin \nThe workshop will cover: \n\nRoyal Commission into Aged Care Recommendations\nFinancial Scams\nFinancial Elder Abuse\nPowers of Attorney\nEstate Planning.\n\nThe Commissioner for Senior Victorians (Gerard Mansour) and Kingston Mayor (Cr Steve Staikos) will also speak.  Read more in the event brochure. \nBookings are essential via Elder Law Workshop Booking or ph. 9556 4440. RSVP by Fri 22 Apr. \nThe workshop will also be livestreamed on the day via Elder Law Livestream. Please contact suzanne.bray@kingston.vic.gov.au (0429 363 195) with any queries.
URL:https://southsafe.org.au/event/elder-law-workshop-kingston-council-and-peninsula-community-legal-centre/
LOCATION:Kingston City Hall\, 979-985 Nepean Hwy\, Moorabbin\, Victoria\, 3189\, Australia
CATEGORIES:Elder,For Clients,For Professionals/Practitioners
ORGANIZER;CN="Kingston Council":MAILTO:info@kingston.vic.gov.au
GEO:-37.933839;145.0361172
X-APPLE-STRUCTURED-LOCATION;VALUE=URI;X-ADDRESS=Kingston City Hall 979-985 Nepean Hwy Moorabbin Victoria 3189 Australia;X-APPLE-RADIUS=500;X-TITLE=979-985 Nepean Hwy:geo:145.0361172,-37.933839
END:VEVENT
END:VCALENDAR