BEGIN:VCALENDAR
VERSION:2.0
PRODID:-//South Safe - ECPv6.15.20//NONSGML v1.0//EN
CALSCALE:GREGORIAN
METHOD:PUBLISH
X-WR-CALNAME:South Safe
X-ORIGINAL-URL:https://southsafe.org.au
X-WR-CALDESC:Events for South Safe
REFRESH-INTERVAL;VALUE=DURATION:PT1H
X-Robots-Tag:noindex
X-PUBLISHED-TTL:PT1H
BEGIN:VTIMEZONE
TZID:Australia/Melbourne
BEGIN:STANDARD
TZOFFSETFROM:+1100
TZOFFSETTO:+1000
TZNAME:AEST
DTSTART:20240406T160000
END:STANDARD
BEGIN:DAYLIGHT
TZOFFSETFROM:+1000
TZOFFSETTO:+1100
TZNAME:AEDT
DTSTART:20241005T160000
END:DAYLIGHT
BEGIN:STANDARD
TZOFFSETFROM:+1100
TZOFFSETTO:+1000
TZNAME:AEST
DTSTART:20250405T160000
END:STANDARD
BEGIN:DAYLIGHT
TZOFFSETFROM:+1000
TZOFFSETTO:+1100
TZNAME:AEDT
DTSTART:20251004T160000
END:DAYLIGHT
BEGIN:STANDARD
TZOFFSETFROM:+1100
TZOFFSETTO:+1000
TZNAME:AEST
DTSTART:20260404T160000
END:STANDARD
BEGIN:DAYLIGHT
TZOFFSETFROM:+1000
TZOFFSETTO:+1100
TZNAME:AEDT
DTSTART:20261003T160000
END:DAYLIGHT
END:VTIMEZONE
BEGIN:VEVENT
DTSTART;TZID=Australia/Melbourne:20250306T120000
DTEND;TZID=Australia/Melbourne:20250306T150000
DTSTAMP:20260423T063436
CREATED:20250130T020000Z
LAST-MODIFIED:20250130T020000Z
UID:10001638-1741262400-1741273200@southsafe.org.au
SUMMARY:International Women's Day 2025 in Nillumbik
DESCRIPTION:Join us for the Nillumbik International Women’s Day event on 6 March 2025\, as we celebrate the achievements and contributions of women from around the world. \nThe 2025 event will feature inspiring speakers and vibrant performances\, all dedicated to empowering women and fostering a community of support and inclusivity. \nStay tuned for more details about the event schedule\, guest speakers\, and how to get involved.
URL:https://southsafe.org.au/event/international-womens-day-2025-in-nillumbik/
LOCATION:Eltham Community Reception Centre\, Eltham\, 801 Main Road\, Eltham\, Victoria\, 3095
ORGANIZER;CN="Nillumbik Shire Council":MAILTO:nillumbik@nillumbik.vic.gov.au
END:VEVENT
END:VCALENDAR