BEGIN:VCALENDAR
VERSION:2.0
PRODID:-//South Safe - ECPv6.15.20//NONSGML v1.0//EN
CALSCALE:GREGORIAN
METHOD:PUBLISH
X-ORIGINAL-URL:https://southsafe.org.au
X-WR-CALDESC:Events for South Safe
REFRESH-INTERVAL;VALUE=DURATION:PT1H
X-Robots-Tag:noindex
X-PUBLISHED-TTL:PT1H
BEGIN:VTIMEZONE
TZID:Australia/Melbourne
BEGIN:STANDARD
TZOFFSETFROM:+1100
TZOFFSETTO:+1000
TZNAME:AEST
DTSTART:20250405T160000
END:STANDARD
BEGIN:DAYLIGHT
TZOFFSETFROM:+1000
TZOFFSETTO:+1100
TZNAME:AEDT
DTSTART:20251004T160000
END:DAYLIGHT
BEGIN:STANDARD
TZOFFSETFROM:+1100
TZOFFSETTO:+1000
TZNAME:AEST
DTSTART:20260404T160000
END:STANDARD
BEGIN:DAYLIGHT
TZOFFSETFROM:+1000
TZOFFSETTO:+1100
TZNAME:AEDT
DTSTART:20261003T160000
END:DAYLIGHT
BEGIN:STANDARD
TZOFFSETFROM:+1100
TZOFFSETTO:+1000
TZNAME:AEST
DTSTART:20270403T160000
END:STANDARD
BEGIN:DAYLIGHT
TZOFFSETFROM:+1000
TZOFFSETTO:+1100
TZNAME:AEDT
DTSTART:20271002T160000
END:DAYLIGHT
END:VTIMEZONE
BEGIN:VEVENT
DTSTART;VALUE=DATE:20261104
DTEND;VALUE=DATE:20261107
DTSTAMP:20260424T233454
CREATED:20260213T052557Z
LAST-MODIFIED:20260213T052557Z
UID:10001960-1793750400-1794009599@southsafe.org.au
SUMMARY:Inaugural International Freedom from Sexual Violence Summit | Sexual Assault Services Victoria
DESCRIPTION:Hosted by Sexual Assault Services Victoria\, the peak body for Victoria’s 19 specialist sexual assault and harmful sexual behaviour services\, this global summit is for all those committed to making freedom from sexual violence a reality. \nJoin people and organisations driving change across the world – from frontline sexual assault workers and survivor advocates to educators\, business leaders and researchers. \nDates: 4-6 November 2026 \nLocation: Pullman Melbourne\, Albert Park \nEarly bird tickets are on sale now\, closing 28 February 2026. Get your tickets here.
URL:https://southsafe.org.au/event/inaugural-international-freedom-from-sexual-violence-summit-sexual-assault-services-victoria/
LOCATION:Pullman Melbourne\, 65 Queens Road\, Melbourne\, Victoria\, 3004\, Australia
CATEGORIES:Conference
ORGANIZER;CN="Sexual Assault Services Victoria":MAILTO:contactus@sasvic.org.au
GEO:-37.8499725;144.9787643
X-APPLE-STRUCTURED-LOCATION;VALUE=URI;X-ADDRESS=Pullman Melbourne 65 Queens Road Melbourne Victoria 3004 Australia;X-APPLE-RADIUS=500;X-TITLE=65 Queens Road:geo:144.9787643,-37.8499725
END:VEVENT
END:VCALENDAR