BEGIN:VCALENDAR
VERSION:2.0
PRODID:-//South Safe - ECPv6.15.20//NONSGML v1.0//EN
CALSCALE:GREGORIAN
METHOD:PUBLISH
X-ORIGINAL-URL:https://southsafe.org.au
X-WR-CALDESC:Events for South Safe
REFRESH-INTERVAL;VALUE=DURATION:PT1H
X-Robots-Tag:noindex
X-PUBLISHED-TTL:PT1H
BEGIN:VTIMEZONE
TZID:Australia/Melbourne
BEGIN:STANDARD
TZOFFSETFROM:+1100
TZOFFSETTO:+1000
TZNAME:AEST
DTSTART:20220402T160000
END:STANDARD
BEGIN:DAYLIGHT
TZOFFSETFROM:+1000
TZOFFSETTO:+1100
TZNAME:AEDT
DTSTART:20221001T160000
END:DAYLIGHT
BEGIN:STANDARD
TZOFFSETFROM:+1100
TZOFFSETTO:+1000
TZNAME:AEST
DTSTART:20230401T160000
END:STANDARD
BEGIN:DAYLIGHT
TZOFFSETFROM:+1000
TZOFFSETTO:+1100
TZNAME:AEDT
DTSTART:20230930T160000
END:DAYLIGHT
BEGIN:STANDARD
TZOFFSETFROM:+1100
TZOFFSETTO:+1000
TZNAME:AEST
DTSTART:20240406T160000
END:STANDARD
BEGIN:DAYLIGHT
TZOFFSETFROM:+1000
TZOFFSETTO:+1100
TZNAME:AEDT
DTSTART:20241005T160000
END:DAYLIGHT
BEGIN:STANDARD
TZOFFSETFROM:+1100
TZOFFSETTO:+1000
TZNAME:AEST
DTSTART:20250405T160000
END:STANDARD
BEGIN:DAYLIGHT
TZOFFSETFROM:+1000
TZOFFSETTO:+1100
TZNAME:AEDT
DTSTART:20251004T160000
END:DAYLIGHT
BEGIN:STANDARD
TZOFFSETFROM:+1100
TZOFFSETTO:+1000
TZNAME:AEST
DTSTART:20260404T160000
END:STANDARD
BEGIN:DAYLIGHT
TZOFFSETFROM:+1000
TZOFFSETTO:+1100
TZNAME:AEDT
DTSTART:20261003T160000
END:DAYLIGHT
BEGIN:STANDARD
TZOFFSETFROM:+1100
TZOFFSETTO:+1000
TZNAME:AEST
DTSTART:20270403T160000
END:STANDARD
BEGIN:DAYLIGHT
TZOFFSETFROM:+1000
TZOFFSETTO:+1100
TZNAME:AEDT
DTSTART:20271002T160000
END:DAYLIGHT
END:VTIMEZONE
BEGIN:VEVENT
DTSTART;VALUE=DATE:20260208
DTEND;VALUE=DATE:20260209
DTSTAMP:20260423T114633
CREATED:20260128T042427Z
LAST-MODIFIED:20260128T042427Z
UID:10001945-1770508800-1770595199@southsafe.org.au
SUMMARY:Victoria's Pride Street Party | Midsumma
DESCRIPTION:Take over the streets with us!\nThe 5th edition of Victoria’s Pride Street Party will be back on Sunday 8 February 2026 – a celebration of progress\, love\, and diversity! \nExperience a full day of LGBTQIA+ art\, live music\, performances\, community and culture\, with stalls showcasing local treasures. Open to all – families\, friends\, and allies – there’s something for everyone\, from morning to night. \nClose off your Midsumma Festival season with this vibrant party and take over the streets with us! \nFind out more here
URL:https://southsafe.org.au/event/victorias-pride-street-party-midsumma/
LOCATION:Gertrude and Smith Street\, Gertrude and Smith Street
ORGANIZER;CN="midsumma":MAILTO:admin@midsumma.org.au
END:VEVENT
BEGIN:VEVENT
DTSTART;VALUE=DATE:20260201
DTEND;VALUE=DATE:20260202
DTSTAMP:20260423T114633
CREATED:20260128T042610Z
LAST-MODIFIED:20260128T042610Z
UID:10001946-1769904000-1769990399@southsafe.org.au
SUMMARY:Midsumma Pride March
DESCRIPTION:Midsumma Pride March returns to Fitzroy Street on Sunday 1 February 2026 \nCome and experience one of the biggest events on the Pride calendar. \nMidsumma Pride March summons a chorus of voices from across our queer communities and makes them visible; embodying a raucous\, shared song that tells us we’re here\, we’ve got each others’ backs\, and we’re not going anywhere. \nThe march kicks of at 10:30am and everyone is welcome to come and watch the parade go by! \nThis page contains key information for march spectators. If you’re signed up to march in the parade\, please see our info page for participants.
URL:https://southsafe.org.au/event/midsumma-pride-march-3/
LOCATION:Fitzroy Street and Catani Gardens\, Fitzroy Street and Catani Gardens\, St Kilda\, VIC\, 3182\, Australia
ORGANIZER;CN="midsumma":MAILTO:admin@midsumma.org.au
END:VEVENT
BEGIN:VEVENT
DTSTART;TZID=Australia/Melbourne:20260120T140000
DTEND;TZID=Australia/Melbourne:20260120T160000
DTSTAMP:20260423T114633
CREATED:20260107T033828Z
LAST-MODIFIED:20260107T033853Z
UID:10001925-1768917600-1768924800@southsafe.org.au
SUMMARY:Memory Lane Cafe | Midsumma Festival
DESCRIPTION:Memory Lane Café offers a supportive space for LGBTQI+ individuals\, allies\, and their families\, friends\, and caregivers affected by dementia. Guests can socialise and find companionship while enjoying entertainment and light refreshments.  \nTrained staff and volunteers from Dementia Australia will be available for conversations and support. This collaborative initiative\, in partnership with Dementia Australia and Lifeview Residential Care\, creates a welcoming environment for fostering connections within the community.  \nAttendance is free\, but reservations are required. For more information or to secure your spot\, please contact Maryanne\, the Memory Lane Coordinator\, at 1800 100 500 or email vic.memorylanecafe@dementia.org.au.
URL:https://southsafe.org.au/event/memory-lane-cafe/
LOCATION:Victorian Pride Centre\, 79-81 Fitzroy Street\, St Kilda\, Victoria\, 3182\, Australia
ORGANIZER;CN="midsumma":MAILTO:admin@midsumma.org.au
END:VEVENT
BEGIN:VEVENT
DTSTART;TZID=Australia/Melbourne:20250202T080000
DTEND;TZID=Australia/Melbourne:20250202T170000
DTSTAMP:20260423T114633
CREATED:20250122T020958Z
LAST-MODIFIED:20250122T020958Z
UID:10001633-1738483200-1738515600@southsafe.org.au
SUMMARY:Midsumma Pride March
DESCRIPTION:
URL:https://southsafe.org.au/event/midsumma-pride-march-2/
LOCATION:Fitzroy Street and Catani Gardens\, Fitzroy Street and Catani Gardens\, St Kilda\, VIC\, 3182\, Australia
CATEGORIES:LGBTIQ+
ORGANIZER;CN="midsumma":MAILTO:admin@midsumma.org.au
END:VEVENT
BEGIN:VEVENT
DTSTART;VALUE=DATE:20230121
DTEND;VALUE=DATE:20230213
DTSTAMP:20260423T114633
CREATED:20221230T024113Z
LAST-MODIFIED:20221230T024113Z
UID:10000920-1674259200-1676246399@southsafe.org.au
SUMMARY:Midsumma Festival
DESCRIPTION:Midsumma is Australia’s premier queer arts and cultural organisation\, bringing together a diverse mix of LGBTQIA+ artists\, performers\, communities and audiences. \nOur primary event\, Midsumma Festival\, usually runs over 22 days in Melbourne’s summer (January/February) each year with an explosion of queer events that centre around hidden and mainstream queer culture\, involving local\, interstate\, and international artists. \nMidsumma Festival will return in 2023 from Saturday 21 Jan to Sunday 12 February. View Full Program
URL:https://southsafe.org.au/event/midsumma-festival/
CATEGORIES:Event,LGBTIQ+
ATTACH;FMTTYPE=image/png:https://southsafe.org.au/wp-content/uploads/2022/12/midsuma.png
ORGANIZER;CN="midsumma":MAILTO:admin@midsumma.org.au
END:VEVENT
END:VCALENDAR