BEGIN:VCALENDAR
VERSION:2.0
PRODID:-//South Safe - ECPv6.15.20//NONSGML v1.0//EN
CALSCALE:GREGORIAN
METHOD:PUBLISH
X-WR-CALNAME:South Safe
X-ORIGINAL-URL:https://southsafe.org.au
X-WR-CALDESC:Events for South Safe
REFRESH-INTERVAL;VALUE=DURATION:PT1H
X-Robots-Tag:noindex
X-PUBLISHED-TTL:PT1H
BEGIN:VTIMEZONE
TZID:Australia/Melbourne
BEGIN:STANDARD
TZOFFSETFROM:+1100
TZOFFSETTO:+1000
TZNAME:AEST
DTSTART:20250405T160000
END:STANDARD
BEGIN:DAYLIGHT
TZOFFSETFROM:+1000
TZOFFSETTO:+1100
TZNAME:AEDT
DTSTART:20251004T160000
END:DAYLIGHT
BEGIN:STANDARD
TZOFFSETFROM:+1100
TZOFFSETTO:+1000
TZNAME:AEST
DTSTART:20260404T160000
END:STANDARD
BEGIN:DAYLIGHT
TZOFFSETFROM:+1000
TZOFFSETTO:+1100
TZNAME:AEDT
DTSTART:20261003T160000
END:DAYLIGHT
BEGIN:STANDARD
TZOFFSETFROM:+1100
TZOFFSETTO:+1000
TZNAME:AEST
DTSTART:20270403T160000
END:STANDARD
BEGIN:DAYLIGHT
TZOFFSETFROM:+1000
TZOFFSETTO:+1100
TZNAME:AEDT
DTSTART:20271002T160000
END:DAYLIGHT
END:VTIMEZONE
BEGIN:VEVENT
DTSTART;TZID=Australia/Melbourne:20260415T191500
DTEND;TZID=Australia/Melbourne:20260415T203000
DTSTAMP:20260423T215425
CREATED:20260319T031445Z
LAST-MODIFIED:20260319T031445Z
UID:10001991-1776280500-1776285000@southsafe.org.au
SUMMARY:Clinical application of Social and Emotional Wellbeing to support Aboriginal and Torres Strait Islander Families
DESCRIPTION:It has been reported that almost a third of Aboriginal and Torres Strait Islander adolescents have experienced high levels of psychological distress. This webinar\, presented by Mental Health Professionals’ Network and Emerging Minds\, will explore the clinical application of the social and emotional wellbeing framework\, guiding practitioners to balance clinical and cultural knowledge and embed culturally informed approaches throughout their work. \n  \nRegister here
URL:https://southsafe.org.au/event/clinical-application-of-social-and-emotional-wellbeing-to-support-aboriginal-and-torres-strait-islander-families/
LOCATION:Online
END:VEVENT
END:VCALENDAR