BEGIN:VCALENDAR
VERSION:2.0
PRODID:-//South Safe - ECPv6.15.20//NONSGML v1.0//EN
CALSCALE:GREGORIAN
METHOD:PUBLISH
X-ORIGINAL-URL:https://southsafe.org.au
X-WR-CALDESC:Events for South Safe
REFRESH-INTERVAL;VALUE=DURATION:PT1H
X-Robots-Tag:noindex
X-PUBLISHED-TTL:PT1H
BEGIN:VTIMEZONE
TZID:Australia/Melbourne
BEGIN:STANDARD
TZOFFSETFROM:+1100
TZOFFSETTO:+1000
TZNAME:AEST
DTSTART:20210403T160000
END:STANDARD
BEGIN:DAYLIGHT
TZOFFSETFROM:+1000
TZOFFSETTO:+1100
TZNAME:AEDT
DTSTART:20211002T160000
END:DAYLIGHT
BEGIN:STANDARD
TZOFFSETFROM:+1100
TZOFFSETTO:+1000
TZNAME:AEST
DTSTART:20220402T160000
END:STANDARD
BEGIN:DAYLIGHT
TZOFFSETFROM:+1000
TZOFFSETTO:+1100
TZNAME:AEDT
DTSTART:20221001T160000
END:DAYLIGHT
BEGIN:STANDARD
TZOFFSETFROM:+1100
TZOFFSETTO:+1000
TZNAME:AEST
DTSTART:20230401T160000
END:STANDARD
BEGIN:DAYLIGHT
TZOFFSETFROM:+1000
TZOFFSETTO:+1100
TZNAME:AEDT
DTSTART:20230930T160000
END:DAYLIGHT
END:VTIMEZONE
BEGIN:VEVENT
DTSTART;TZID=Australia/Melbourne:20220316T090000
DTEND;TZID=Australia/Melbourne:20220316T170000
DTSTAMP:20260425T020610
CREATED:20220221T014005Z
LAST-MODIFIED:20220221T014005Z
UID:10000753-1647421200-1647450000@southsafe.org.au
SUMMARY:Multicultural Domestic and Family Violence Response Training for Frontline Workers
DESCRIPTION:This workshop is for front-line workers and volunteers in Australia\, including those in the health\, allied health\, education\, childcare or community sectors who have contact with people from culturally and linguistically diverse communities. DV-alert training is funded by the Australian Government Department of Social Services. It is free for front-line workers. \nFinancial support is also offered for staff back-fill for attendance of the 2-day workshop or a 1-day specialist workshop\, and help with travel and accommodation is available in some cases. \nTerms and conditions apply. For further information refer to the attached flyer or the website: www.dvalert.org.au
URL:https://southsafe.org.au/event/multicultural-domestic-and-family-violence-response-training-for-frontline-workers/2022-03-16/
LOCATION:Uniting Prahran\, Level 4\, 211 Chapel Street\, Prahran\, Victoria\, 3181\, Australia
CATEGORIES:Family Violence,For Professionals/Practitioners,Training
ORGANIZER;CN="LifeLine":MAILTO:training.dvalert@lifeline.org.au
GEO:-37.8510506;144.9932622
X-APPLE-STRUCTURED-LOCATION;VALUE=URI;X-ADDRESS=Uniting Prahran Level 4 211 Chapel Street Prahran Victoria 3181 Australia;X-APPLE-RADIUS=500;X-TITLE=Level 4\, 211 Chapel Street:geo:144.9932622,-37.8510506
END:VEVENT
BEGIN:VEVENT
DTSTART;TZID=Australia/Melbourne:20220315T090000
DTEND;TZID=Australia/Melbourne:20220315T170000
DTSTAMP:20260425T020610
CREATED:20220221T014005Z
LAST-MODIFIED:20220221T014005Z
UID:10000752-1647334800-1647363600@southsafe.org.au
SUMMARY:Multicultural Domestic and Family Violence Response Training for Frontline Workers
DESCRIPTION:This workshop is for front-line workers and volunteers in Australia\, including those in the health\, allied health\, education\, childcare or community sectors who have contact with people from culturally and linguistically diverse communities. DV-alert training is funded by the Australian Government Department of Social Services. It is free for front-line workers. \nFinancial support is also offered for staff back-fill for attendance of the 2-day workshop or a 1-day specialist workshop\, and help with travel and accommodation is available in some cases. \nTerms and conditions apply. For further information refer to the attached flyer or the website: www.dvalert.org.au
URL:https://southsafe.org.au/event/multicultural-domestic-and-family-violence-response-training-for-frontline-workers/2022-03-15/
LOCATION:Uniting Prahran\, Level 4\, 211 Chapel Street\, Prahran\, Victoria\, 3181\, Australia
CATEGORIES:Family Violence,For Professionals/Practitioners,Training
ORGANIZER;CN="LifeLine":MAILTO:training.dvalert@lifeline.org.au
GEO:-37.8510506;144.9932622
X-APPLE-STRUCTURED-LOCATION;VALUE=URI;X-ADDRESS=Uniting Prahran Level 4 211 Chapel Street Prahran Victoria 3181 Australia;X-APPLE-RADIUS=500;X-TITLE=Level 4\, 211 Chapel Street:geo:144.9932622,-37.8510506
END:VEVENT
END:VCALENDAR