BEGIN:VCALENDAR
VERSION:2.0
PRODID:-//South Safe - ECPv6.15.20//NONSGML v1.0//EN
CALSCALE:GREGORIAN
METHOD:PUBLISH
X-WR-CALNAME:South Safe
X-ORIGINAL-URL:https://southsafe.org.au
X-WR-CALDESC:Events for South Safe
REFRESH-INTERVAL;VALUE=DURATION:PT1H
X-Robots-Tag:noindex
X-PUBLISHED-TTL:PT1H
BEGIN:VTIMEZONE
TZID:Australia/Melbourne
BEGIN:STANDARD
TZOFFSETFROM:+1100
TZOFFSETTO:+1000
TZNAME:AEST
DTSTART:20240406T160000
END:STANDARD
BEGIN:DAYLIGHT
TZOFFSETFROM:+1000
TZOFFSETTO:+1100
TZNAME:AEDT
DTSTART:20241005T160000
END:DAYLIGHT
BEGIN:STANDARD
TZOFFSETFROM:+1100
TZOFFSETTO:+1000
TZNAME:AEST
DTSTART:20250405T160000
END:STANDARD
BEGIN:DAYLIGHT
TZOFFSETFROM:+1000
TZOFFSETTO:+1100
TZNAME:AEDT
DTSTART:20251004T160000
END:DAYLIGHT
BEGIN:STANDARD
TZOFFSETFROM:+1100
TZOFFSETTO:+1000
TZNAME:AEST
DTSTART:20260404T160000
END:STANDARD
BEGIN:DAYLIGHT
TZOFFSETFROM:+1000
TZOFFSETTO:+1100
TZNAME:AEDT
DTSTART:20261003T160000
END:DAYLIGHT
END:VTIMEZONE
BEGIN:VEVENT
DTSTART;TZID=Australia/Melbourne:20251112T110000
DTEND;TZID=Australia/Melbourne:20251112T123000
DTSTAMP:20260422T050607
CREATED:20251027T040633Z
LAST-MODIFIED:20251027T040633Z
UID:10001886-1762945200-1762950600@southsafe.org.au
SUMMARY:Intersectionality and leadership: Turning research into action | WHISE
DESCRIPTION:We would love for you to join us for an engaging webinar exploring the findings of the Intersectionality and Leadership research paper — and connect about how these insights and collective learning can strengthen your leadership practice in driving meaningful change. \nThis study contributes to the existing research base and investigates how leaders ensure an intersectional or feminist intersectional approach is embedded in everyday practice. It explores the leadership behaviours\, organisational structures\, and cultural factors that either enable or hinder this approach. \nPresentation and Conversation – what will it look like? \n\nPresentation on the research paper\nPanel of presenters sharing about their leadership experiences\nQ and A\nReflective practice activity\nYou will be part of a conversation in shaping what’s next and how we can work together to strengthen and sustain our collective work\n\nTogether\, we’ll explore how to build on this progress and identify the tools\, support\, and resources needed to strengthen intersectional leadership as part of everyday practice. \nWho Should Attend \nPeople across all sectors who lead to create change. \nEvent Details \n📅 Wednesday 12 November\n🕒 11am – 12.30pm\n💻 Online \nRegister here
URL:https://southsafe.org.au/event/intersectionality-and-leadership-turning-research-into-action-whise/
LOCATION:Online
CATEGORIES:Webinar
END:VEVENT
END:VCALENDAR