BEGIN:VCALENDAR
VERSION:2.0
PRODID:-//South Safe - ECPv6.15.20//NONSGML v1.0//EN
CALSCALE:GREGORIAN
METHOD:PUBLISH
X-ORIGINAL-URL:https://southsafe.org.au
X-WR-CALDESC:Events for South Safe
REFRESH-INTERVAL;VALUE=DURATION:PT1H
X-Robots-Tag:noindex
X-PUBLISHED-TTL:PT1H
BEGIN:VTIMEZONE
TZID:Australia/Melbourne
BEGIN:STANDARD
TZOFFSETFROM:+1100
TZOFFSETTO:+1000
TZNAME:AEST
DTSTART:20240406T160000
END:STANDARD
BEGIN:DAYLIGHT
TZOFFSETFROM:+1000
TZOFFSETTO:+1100
TZNAME:AEDT
DTSTART:20241005T160000
END:DAYLIGHT
BEGIN:STANDARD
TZOFFSETFROM:+1100
TZOFFSETTO:+1000
TZNAME:AEST
DTSTART:20250405T160000
END:STANDARD
BEGIN:DAYLIGHT
TZOFFSETFROM:+1000
TZOFFSETTO:+1100
TZNAME:AEDT
DTSTART:20251004T160000
END:DAYLIGHT
BEGIN:STANDARD
TZOFFSETFROM:+1100
TZOFFSETTO:+1000
TZNAME:AEST
DTSTART:20260404T160000
END:STANDARD
BEGIN:DAYLIGHT
TZOFFSETFROM:+1000
TZOFFSETTO:+1100
TZNAME:AEDT
DTSTART:20261003T160000
END:DAYLIGHT
END:VTIMEZONE
BEGIN:VEVENT
DTSTART;TZID=Australia/Melbourne:20250812T120000
DTEND;TZID=Australia/Melbourne:20250812T130000
DTSTAMP:20260424T145439
CREATED:20250721T052421Z
LAST-MODIFIED:20250721T052421Z
UID:10001774-1755000000-1755003600@southsafe.org.au
SUMMARY:Webinar: Valuing practitioners’ expertise in domestic\, family and sexual violence research | ANROWS
DESCRIPTION:ANROWS announces the third instalment of our webinar series unpacking the ways of working and ways of knowing set out in The Australian National Research Agenda to End Violence against Women and Children (ANRA) 2023–2028. \nThe Research Agenda describes practitioners’ expertise as essential in all phases of domestic\, family and sexual violence (DFSV) research and evaluation\, including design to data collection to implementation. \n“Practitioner expertise” goes beyond frontline DFSV roles and includes police\, courts\, housing\, education\, finance\, and other services that intersect with victim-survivors and people who use violence. \nPractitioners bring deep\, real world knowledge that can strengthen research design\, shape measurable outcomes and highlight ethical considerations. \nJoin Miranda Moir\, Brodie Evans\, Skye Trudgett\, and Karen Iles for a panel conversation exploring: \n\nHow to challenge the idea that practitioner-led research and evaluation is ‘less than’\nWhat it means to engage practitioners meaningfully\, ethically\, and sustainably\nHow we can better recognise and value practitioners’ expertise across the system\n\nThe discussion will be followed with a live Q&A. You can also submit questions ahead of time when you register. \nRegister here
URL:https://southsafe.org.au/event/webinar-valuing-practitioners-expertise-in-domestic-family-and-sexual-violence-research-anrows/
LOCATION:Online
CATEGORIES:Webinar
ORGANIZER;CN="ANROWS":MAILTO:enquiries@anrows.org.au
END:VEVENT
END:VCALENDAR