BEGIN:VCALENDAR
VERSION:2.0
PRODID:-//South Safe - ECPv6.15.20//NONSGML v1.0//EN
CALSCALE:GREGORIAN
METHOD:PUBLISH
X-ORIGINAL-URL:https://southsafe.org.au
X-WR-CALDESC:Events for South Safe
REFRESH-INTERVAL;VALUE=DURATION:PT1H
X-Robots-Tag:noindex
X-PUBLISHED-TTL:PT1H
BEGIN:VTIMEZONE
TZID:Australia/Melbourne
BEGIN:STANDARD
TZOFFSETFROM:+1100
TZOFFSETTO:+1000
TZNAME:AEST
DTSTART:20230401T160000
END:STANDARD
BEGIN:DAYLIGHT
TZOFFSETFROM:+1000
TZOFFSETTO:+1100
TZNAME:AEDT
DTSTART:20230930T160000
END:DAYLIGHT
BEGIN:STANDARD
TZOFFSETFROM:+1100
TZOFFSETTO:+1000
TZNAME:AEST
DTSTART:20240406T160000
END:STANDARD
BEGIN:DAYLIGHT
TZOFFSETFROM:+1000
TZOFFSETTO:+1100
TZNAME:AEDT
DTSTART:20241005T160000
END:DAYLIGHT
BEGIN:STANDARD
TZOFFSETFROM:+1100
TZOFFSETTO:+1000
TZNAME:AEST
DTSTART:20250405T160000
END:STANDARD
BEGIN:DAYLIGHT
TZOFFSETFROM:+1000
TZOFFSETTO:+1100
TZNAME:AEDT
DTSTART:20251004T160000
END:DAYLIGHT
END:VTIMEZONE
BEGIN:VEVENT
DTSTART;TZID=Australia/Melbourne:20241030T120000
DTEND;TZID=Australia/Melbourne:20241030T133000
DTSTAMP:20260422T003927
CREATED:20241010T023037Z
LAST-MODIFIED:20241010T023037Z
UID:10001580-1730289600-1730295000@southsafe.org.au
SUMMARY:How to support the inclusion of children with disability using embedded learning support practices | AIFS
DESCRIPTION:This webinar will introduce a framework for embedded learning support practices for children with disability – including what and when children can learn\, how to support learning\, and how to make decisions about learning for children with disability. \nThis webinar will help you: \n\ngain insight into the current Australian policy and practice context for early learning supports for children with disability\nunderstand what inclusive practice is\, including the key features of inclusion (access) and practices that support inclusion for children with disability (embedded learning supports)\ndevelop insight into the key elements of an evidence-based framework for embedded learning supports and how this can be applied in practice when supporting children with disability.\n\nThis webinar will interest practitioners who work in early childhood education and care sector and broader child and family sector who may work with children with disability and their families. \nClick here to register
URL:https://southsafe.org.au/event/how-to-support-the-inclusion-of-children-with-disability-using-embedded-learning-support-practices-aifs/
LOCATION:Online
CATEGORIES:Children,Disability,Family Services,Webinar
ORGANIZER;CN="AIFS":MAILTO:enquiries@aifs.gov.au
END:VEVENT
END:VCALENDAR