BEGIN:VCALENDAR
VERSION:2.0
PRODID:-//South Safe - ECPv6.15.20//NONSGML v1.0//EN
CALSCALE:GREGORIAN
METHOD:PUBLISH
X-WR-CALNAME:South Safe
X-ORIGINAL-URL:https://southsafe.org.au
X-WR-CALDESC:Events for South Safe
REFRESH-INTERVAL;VALUE=DURATION:PT1H
X-Robots-Tag:noindex
X-PUBLISHED-TTL:PT1H
BEGIN:VTIMEZONE
TZID:Australia/Melbourne
BEGIN:STANDARD
TZOFFSETFROM:+1100
TZOFFSETTO:+1000
TZNAME:AEST
DTSTART:20240406T160000
END:STANDARD
BEGIN:DAYLIGHT
TZOFFSETFROM:+1000
TZOFFSETTO:+1100
TZNAME:AEDT
DTSTART:20241005T160000
END:DAYLIGHT
BEGIN:STANDARD
TZOFFSETFROM:+1100
TZOFFSETTO:+1000
TZNAME:AEST
DTSTART:20250405T160000
END:STANDARD
BEGIN:DAYLIGHT
TZOFFSETFROM:+1000
TZOFFSETTO:+1100
TZNAME:AEDT
DTSTART:20251004T160000
END:DAYLIGHT
BEGIN:STANDARD
TZOFFSETFROM:+1100
TZOFFSETTO:+1000
TZNAME:AEST
DTSTART:20260404T160000
END:STANDARD
BEGIN:DAYLIGHT
TZOFFSETFROM:+1000
TZOFFSETTO:+1100
TZNAME:AEDT
DTSTART:20261003T160000
END:DAYLIGHT
END:VTIMEZONE
BEGIN:VEVENT
DTSTART;TZID=Australia/Melbourne:20250604T130000
DTEND;TZID=Australia/Melbourne:20250604T133000
DTSTAMP:20260424T110627
CREATED:20250512T051215Z
LAST-MODIFIED:20250512T051215Z
UID:10001734-1749042000-1749043800@southsafe.org.au
SUMMARY:Webinar: What is good research evidence and how do you find it? | AIFS
DESCRIPTION:Quality research evidence can improve service design and delivery\, and professionals in child and family services often need to use this to inform their work. This can include writing grant proposals\, developing program theories\, or preparing program evaluations. However\, people may not know how to find high-quality\, relevant research. \nThe Evidence and Evaluation Support (EES) team at the Australian Institute of Family Studies has put together a four-part webinar series to share examples of evaluative practice and ideas for collecting and using evidence in the context of Australian child and family services. \nIn episode 3\, Kat Goldsworthy\, Research Fellow in the Evidence and Evaluation Support team\, sits down with Dr Melissa Willoughby to discuss practical strategies for finding and using research evidence in a practice context. \nThis episode will discuss different types of research evidence and how to find and assess its quality; as well as insights into how research evidence can be used alongside other forms of evidence\, such as lived experience and practice expertise. \nThis webinar will give you: \n\nan understanding of what research evidence is and how it’s relevant to service design and delivery\ninsights into how to identify quality research evidence and make judgments about if it can be used to inform decision-making in practice\ninsights into how to find relevant research evidence.\n\nThe webinar is intended for anyone interested in understanding and using research evidence more effectively. It will be particularly useful for professionals involved in service design and delivery\, especially those who write grants and funding applications\, design new programs or refine existing ones\, and those who support or do program evaluations. \nRegister here
URL:https://southsafe.org.au/event/webinar-what-is-good-research-evidence-and-how-do-you-find-it-aifs/
LOCATION:Online
CATEGORIES:Webinar
ORGANIZER;CN="AIFS":MAILTO:enquiries@aifs.gov.au
END:VEVENT
BEGIN:VEVENT
DTSTART;TZID=Australia/Melbourne:20250618T103000
DTEND;TZID=Australia/Melbourne:20250618T113000
DTSTAMP:20260424T110627
CREATED:20250602T012516Z
LAST-MODIFIED:20250602T012516Z
UID:10001747-1750242600-1750246200@southsafe.org.au
SUMMARY:Webinar: Safety Measures – Making sense of domestic and family violence service demand\, capacity and impact
DESCRIPTION:Every person experiencing domestic or family violence in Australia should be able to access the support and safety that they need\, when they need it. However\, no one currently has a full\, accurate sense of the scale and nature of support needed across Australia\, or the service system’s capacity to meet this. \nSafety Measures is an innovative new sense-making program\, led by six organisations across the Northern Territory\, South Australia and Victoria\, that aims to build a holistic picture of people’s support needs and experiences and inform more responsive\, inclusive and evidence-based decision making about DFV service provision. \nRegister Here
URL:https://southsafe.org.au/event/webinar-safety-measures-making-sense-of-domestic-and-family-violence-service-demand-capacity-and-impact/
LOCATION:Online
CATEGORIES:Family Violence,Webinar
ORGANIZER;CN="Safe and Equal":MAILTO:admin@safeandequal.org.au
END:VEVENT
END:VCALENDAR