BEGIN:VCALENDAR
VERSION:2.0
PRODID:-//South Safe - ECPv6.15.20//NONSGML v1.0//EN
CALSCALE:GREGORIAN
METHOD:PUBLISH
X-WR-CALNAME:South Safe
X-ORIGINAL-URL:https://southsafe.org.au
X-WR-CALDESC:Events for South Safe
REFRESH-INTERVAL;VALUE=DURATION:PT1H
X-Robots-Tag:noindex
X-PUBLISHED-TTL:PT1H
BEGIN:VTIMEZONE
TZID:Australia/Melbourne
BEGIN:STANDARD
TZOFFSETFROM:+1100
TZOFFSETTO:+1000
TZNAME:AEST
DTSTART:20230401T160000
END:STANDARD
BEGIN:DAYLIGHT
TZOFFSETFROM:+1000
TZOFFSETTO:+1100
TZNAME:AEDT
DTSTART:20230930T160000
END:DAYLIGHT
BEGIN:STANDARD
TZOFFSETFROM:+1100
TZOFFSETTO:+1000
TZNAME:AEST
DTSTART:20240406T160000
END:STANDARD
BEGIN:DAYLIGHT
TZOFFSETFROM:+1000
TZOFFSETTO:+1100
TZNAME:AEDT
DTSTART:20241005T160000
END:DAYLIGHT
BEGIN:STANDARD
TZOFFSETFROM:+1100
TZOFFSETTO:+1000
TZNAME:AEST
DTSTART:20250405T160000
END:STANDARD
BEGIN:DAYLIGHT
TZOFFSETFROM:+1000
TZOFFSETTO:+1100
TZNAME:AEDT
DTSTART:20251004T160000
END:DAYLIGHT
END:VTIMEZONE
BEGIN:VEVENT
DTSTART;TZID=Australia/Melbourne:20240718T110000
DTEND;TZID=Australia/Melbourne:20240718T120000
DTSTAMP:20260422T101708
CREATED:20240321T054639Z
LAST-MODIFIED:20240321T054704Z
UID:10001429-1721300400-1721304000@southsafe.org.au
SUMMARY:NILs & FIH - Make Informed referrals | Good Shepherd
DESCRIPTION:Find out how to use No Interest Loans and the Financial Independence Hub to help the people you support meet needs and achieve their goals. \nCome along to find out: \n\nThe benefits of each service & participant outcomes\nHow it works and the specialist support provided\nEligibility requirements\nWhen and how to refer\nFREE tools to promote these services to your clients\n\nClick here for more information and to register
URL:https://southsafe.org.au/event/nils-fih-make-informed-referrals-good-shepherd/2024-07-18/
LOCATION:Online
CATEGORIES:Family Services,Family Violence,For Professionals/Practitioners,Training,Webinar
ATTACH;FMTTYPE=image/png:https://southsafe.org.au/wp-content/uploads/2024/03/Capture.png
END:VEVENT
BEGIN:VEVENT
DTSTART;TZID=Australia/Melbourne:20240731T140000
DTEND;TZID=Australia/Melbourne:20240731T153000
DTSTAMP:20260422T101708
CREATED:20240718T002636Z
LAST-MODIFIED:20240718T002636Z
UID:10001559-1722434400-1722439800@southsafe.org.au
SUMMARY:16 Days of Activism 2024 Kick-Off | Safe and Equal
DESCRIPTION:Safe and Equal and Respect Victoria are hosting an online webinar and workshop series to support organisations and practitioners with their 16 Days of Activism campaign planning and activities for 2024. \nYou’ll also hear from three organisations that ran successful campaigns in 2023\, discussing the challenges they faced\, tips for social media engagement\, and strategies for managing resistance. \nClick here to register
URL:https://southsafe.org.au/event/16-days-of-activism-2024-kick-off-safe-and-equal/
LOCATION:Online
CATEGORIES:Family Violence,Social Media Campaign,Webinar
ATTACH;FMTTYPE=image/png:https://southsafe.org.au/wp-content/uploads/2024/07/Respect-is-graphic-1024x572-1.png
ORGANIZER;CN="Safe and Equal":MAILTO:admin@safeandequal.org.au
END:VEVENT
END:VCALENDAR