BEGIN:VCALENDAR
VERSION:2.0
PRODID:-//South Safe - ECPv6.15.20//NONSGML v1.0//EN
CALSCALE:GREGORIAN
METHOD:PUBLISH
X-WR-CALNAME:South Safe
X-ORIGINAL-URL:https://southsafe.org.au
X-WR-CALDESC:Events for South Safe
REFRESH-INTERVAL;VALUE=DURATION:PT1H
X-Robots-Tag:noindex
X-PUBLISHED-TTL:PT1H
BEGIN:VTIMEZONE
TZID:Australia/Melbourne
BEGIN:STANDARD
TZOFFSETFROM:+1100
TZOFFSETTO:+1000
TZNAME:AEST
DTSTART:20230401T160000
END:STANDARD
BEGIN:DAYLIGHT
TZOFFSETFROM:+1000
TZOFFSETTO:+1100
TZNAME:AEDT
DTSTART:20230930T160000
END:DAYLIGHT
BEGIN:STANDARD
TZOFFSETFROM:+1100
TZOFFSETTO:+1000
TZNAME:AEST
DTSTART:20240406T160000
END:STANDARD
BEGIN:DAYLIGHT
TZOFFSETFROM:+1000
TZOFFSETTO:+1100
TZNAME:AEDT
DTSTART:20241005T160000
END:DAYLIGHT
BEGIN:STANDARD
TZOFFSETFROM:+1100
TZOFFSETTO:+1000
TZNAME:AEST
DTSTART:20250405T160000
END:STANDARD
BEGIN:DAYLIGHT
TZOFFSETFROM:+1000
TZOFFSETTO:+1100
TZNAME:AEDT
DTSTART:20251004T160000
END:DAYLIGHT
END:VTIMEZONE
BEGIN:VEVENT
DTSTART;TZID=Australia/Melbourne:20240620T110000
DTEND;TZID=Australia/Melbourne:20240620T120000
DTSTAMP:20260425T235801
CREATED:20240321T054639Z
LAST-MODIFIED:20240321T054704Z
UID:10001428-1718881200-1718884800@southsafe.org.au
SUMMARY:NILs & FIH - Make Informed referrals | Good Shepherd
DESCRIPTION:Find out how to use No Interest Loans and the Financial Independence Hub to help the people you support meet needs and achieve their goals. \nCome along to find out: \n\nThe benefits of each service & participant outcomes\nHow it works and the specialist support provided\nEligibility requirements\nWhen and how to refer\nFREE tools to promote these services to your clients\n\nClick here for more information and to register
URL:https://southsafe.org.au/event/nils-fih-make-informed-referrals-good-shepherd/2024-06-20/
LOCATION:Online
CATEGORIES:Family Services,Family Violence,For Professionals/Practitioners,Training,Webinar
ATTACH;FMTTYPE=image/png:https://southsafe.org.au/wp-content/uploads/2024/03/Capture.png
END:VEVENT
BEGIN:VEVENT
DTSTART;TZID=Australia/Melbourne:20240620T110000
DTEND;TZID=Australia/Melbourne:20240620T120000
DTSTAMP:20260425T235801
CREATED:20240607T022654Z
LAST-MODIFIED:20240607T022654Z
UID:10001530-1718881200-1718884800@southsafe.org.au
SUMMARY:Women with Disabilities from Multicultural Communities | WDV & MCWH
DESCRIPTION:A FREE event to launch new gender and disability workforce development resources! \nThis event aims to provide an online space where we can highlight how gender inequality\, racism and ableism intersect and increase the likelihood of migrant and refugee women\, non-binary\, and gender-diverse people with disabilities experiencing violence\, and how we can take action to prevent violence and enhance our gender and disability inclusive and culturally safe practice. \nClick here for more info and to register \nRegistrations close Thursday 13 June
URL:https://southsafe.org.au/event/women-with-disabilities-from-multicultural-communities-wdv-mcwh/
LOCATION:Online
CATEGORIES:CALD,Disability,Family Violence,Primary Prevention,Webinar
ATTACH;FMTTYPE=image/jpeg:https://southsafe.org.au/wp-content/uploads/2024/06/Women-with-Disabilities.jpg
ORGANIZER;CN="Women with Disabilities Victoria":MAILTO:carly.myers@wdv.org.au
END:VEVENT
END:VCALENDAR