BEGIN:VCALENDAR
VERSION:2.0
PRODID:-//South Safe - ECPv6.15.20//NONSGML v1.0//EN
CALSCALE:GREGORIAN
METHOD:PUBLISH
X-ORIGINAL-URL:https://southsafe.org.au
X-WR-CALDESC:Events for South Safe
REFRESH-INTERVAL;VALUE=DURATION:PT1H
X-Robots-Tag:noindex
X-PUBLISHED-TTL:PT1H
BEGIN:VTIMEZONE
TZID:Australia/Melbourne
BEGIN:STANDARD
TZOFFSETFROM:+1100
TZOFFSETTO:+1000
TZNAME:AEST
DTSTART:20230401T160000
END:STANDARD
BEGIN:DAYLIGHT
TZOFFSETFROM:+1000
TZOFFSETTO:+1100
TZNAME:AEDT
DTSTART:20230930T160000
END:DAYLIGHT
BEGIN:STANDARD
TZOFFSETFROM:+1100
TZOFFSETTO:+1000
TZNAME:AEST
DTSTART:20240406T160000
END:STANDARD
BEGIN:DAYLIGHT
TZOFFSETFROM:+1000
TZOFFSETTO:+1100
TZNAME:AEDT
DTSTART:20241005T160000
END:DAYLIGHT
BEGIN:STANDARD
TZOFFSETFROM:+1100
TZOFFSETTO:+1000
TZNAME:AEST
DTSTART:20250405T160000
END:STANDARD
BEGIN:DAYLIGHT
TZOFFSETFROM:+1000
TZOFFSETTO:+1100
TZNAME:AEDT
DTSTART:20251004T160000
END:DAYLIGHT
END:VTIMEZONE
BEGIN:VEVENT
DTSTART;TZID=Australia/Melbourne:20240712T103000
DTEND;TZID=Australia/Melbourne:20240712T130000
DTSTAMP:20260424T012426
CREATED:20240612T002125Z
LAST-MODIFIED:20240612T002125Z
UID:10001549-1720780200-1720789200@southsafe.org.au
SUMMARY:How to use empathy to elicit personal responsibility with men who use violence | The Hatchery
DESCRIPTION:Supporting MBCP facilitators to challenge men’s narratives for meaningful change. \nMen referred to programs are used to sharing their ‘narrative’ but less used to having that narrative challenged in a way that shifts the lens of responsibility to them empathetically and without shame. \nIn this seminar\, Tony will share the psychotherapeutic technique of meeting these men ‘where they are at’ to support MBCP facilitators to challenge men’s narratives. \nThrough utilising empathic\, humanistic engagement techniques\, participants will learn how to create opportunities for these men to understand their choice points\, trigger points\, and the impacts that their behaviours have on women and children. \nClick here for more information and to register
URL:https://southsafe.org.au/event/how-to-use-empathy-to-elicit-personal-responsibility-with-men-who-use-violence-the-hatchery/
LOCATION:Online
CATEGORIES:Adults who use Violence,Family Violence,Seminar
ATTACH;FMTTYPE=image/jpeg:https://southsafe.org.au/wp-content/uploads/2024/06/ru-recovery-ministries-zAUFtGIWc0E-unsplash.jpg
END:VEVENT
END:VCALENDAR