BEGIN:VCALENDAR
VERSION:2.0
PRODID:-//South Safe - ECPv6.15.20//NONSGML v1.0//EN
CALSCALE:GREGORIAN
METHOD:PUBLISH
X-WR-CALNAME:South Safe
X-ORIGINAL-URL:https://southsafe.org.au
X-WR-CALDESC:Events for South Safe
REFRESH-INTERVAL;VALUE=DURATION:PT1H
X-Robots-Tag:noindex
X-PUBLISHED-TTL:PT1H
BEGIN:VTIMEZONE
TZID:Australia/Melbourne
BEGIN:STANDARD
TZOFFSETFROM:+1100
TZOFFSETTO:+1000
TZNAME:AEST
DTSTART:20230401T160000
END:STANDARD
BEGIN:DAYLIGHT
TZOFFSETFROM:+1000
TZOFFSETTO:+1100
TZNAME:AEDT
DTSTART:20230930T160000
END:DAYLIGHT
BEGIN:STANDARD
TZOFFSETFROM:+1100
TZOFFSETTO:+1000
TZNAME:AEST
DTSTART:20240406T160000
END:STANDARD
BEGIN:DAYLIGHT
TZOFFSETFROM:+1000
TZOFFSETTO:+1100
TZNAME:AEDT
DTSTART:20241005T160000
END:DAYLIGHT
BEGIN:STANDARD
TZOFFSETFROM:+1100
TZOFFSETTO:+1000
TZNAME:AEST
DTSTART:20250405T160000
END:STANDARD
BEGIN:DAYLIGHT
TZOFFSETFROM:+1000
TZOFFSETTO:+1100
TZNAME:AEDT
DTSTART:20251004T160000
END:DAYLIGHT
END:VTIMEZONE
BEGIN:VEVENT
DTSTART;TZID=Australia/Melbourne:20241113T150000
DTEND;TZID=Australia/Melbourne:20241113T170000
DTSTAMP:20260420T194811
CREATED:20241010T230957Z
LAST-MODIFIED:20241010T231507Z
UID:10001581-1731510000-1731517200@southsafe.org.au
SUMMARY:Working With Young People that use Violence in the Home | RMIT
DESCRIPTION:RMIT’s Graduate Certificate in Domestic and Family Violence team is delighted to invite you to our next in-person Panel Forum – Working With Young People that use Violence in the Home.  The event will be held at RMIT from 3 – 5pm\, 13 November. \nClick here for more information and to register \nNote\, applications for the 2025 Graduate Certificate in Domestic and Family Violence entry are now open
URL:https://southsafe.org.au/event/working-with-young-people-that-use-violence-in-the-home-rmit/
LOCATION:RMIT Cinema\, Ground Floor\, Building 80\, 435-457 Swanston Street\, Melbourne\, Victoria\, 3000\, Australia
CATEGORIES:Adolescence,Family Violence,Panel Discussion
END:VEVENT
END:VCALENDAR