BEGIN:VCALENDAR
VERSION:2.0
PRODID:-//South Safe - ECPv6.15.20//NONSGML v1.0//EN
CALSCALE:GREGORIAN
METHOD:PUBLISH
X-ORIGINAL-URL:https://southsafe.org.au
X-WR-CALDESC:Events for South Safe
REFRESH-INTERVAL;VALUE=DURATION:PT1H
X-Robots-Tag:noindex
X-PUBLISHED-TTL:PT1H
BEGIN:VTIMEZONE
TZID:Australia/Melbourne
BEGIN:STANDARD
TZOFFSETFROM:+1100
TZOFFSETTO:+1000
TZNAME:AEST
DTSTART:20240406T160000
END:STANDARD
BEGIN:DAYLIGHT
TZOFFSETFROM:+1000
TZOFFSETTO:+1100
TZNAME:AEDT
DTSTART:20241005T160000
END:DAYLIGHT
BEGIN:STANDARD
TZOFFSETFROM:+1100
TZOFFSETTO:+1000
TZNAME:AEST
DTSTART:20250405T160000
END:STANDARD
BEGIN:DAYLIGHT
TZOFFSETFROM:+1000
TZOFFSETTO:+1100
TZNAME:AEDT
DTSTART:20251004T160000
END:DAYLIGHT
BEGIN:STANDARD
TZOFFSETFROM:+1100
TZOFFSETTO:+1000
TZNAME:AEST
DTSTART:20260404T160000
END:STANDARD
BEGIN:DAYLIGHT
TZOFFSETFROM:+1000
TZOFFSETTO:+1100
TZNAME:AEDT
DTSTART:20261003T160000
END:DAYLIGHT
END:VTIMEZONE
BEGIN:VEVENT
DTSTART;TZID=Australia/Melbourne:20250730T093000
DTEND;TZID=Australia/Melbourne:20250730T123000
DTSTAMP:20260424T220424
CREATED:20250401T232452Z
LAST-MODIFIED:20250401T232452Z
UID:10001696-1753867800-1753878600@southsafe.org.au
SUMMARY:Training: YPVITH - Neurodiverse-Affirming Practice with Young People and Their Families | Centre for Excellence in Child and Family Welfare
DESCRIPTION:The Centre\, in collaboration with Dr Amanda Mullin (Doctor of Clinical Psychology and Director\, Mindworx Psychology) is offering a three-hour interactive training designed to equip professionals with the skills and strategies needed to work effectively in these complex situations. \nSupporting neurodivergent young people using violence in the home (YPVITH) requires a specialised\, therapeutic approach—one recognising their unique needs while ensuring the safety and wellbeing of their families. \nParticipants will explore: \n\nA neurodiverse-affirming approach – learn how to apply a therapeutic framework that acknowledges neurodivergent perspectives and strengths.\nImproved engagement strategies – discover practical ways to connect with young people who may struggle with traditional interventions.\nBetter outcomes for families – explore techniques to support the young person\, parents\, carers\, and family members while maintaining a young person-focused approach.\n\nRegister here
URL:https://southsafe.org.au/event/training-ypvith-neurodiverse-affirming-practice-with-young-people-and-their-families-centre-for-excellence-in-child-and-family-welfare/2025-07-30/
LOCATION:Online
CATEGORIES:Neurodiversity,Training
ORGANIZER;CN="Centre for Excellence in Child & Family Welfare":MAILTO:admin@cfecfw.asn.au
END:VEVENT
END:VCALENDAR