BEGIN:VCALENDAR
VERSION:2.0
PRODID:-//South Safe - ECPv6.15.20//NONSGML v1.0//EN
CALSCALE:GREGORIAN
METHOD:PUBLISH
X-WR-CALNAME:South Safe
X-ORIGINAL-URL:https://southsafe.org.au
X-WR-CALDESC:Events for South Safe
REFRESH-INTERVAL;VALUE=DURATION:PT1H
X-Robots-Tag:noindex
X-PUBLISHED-TTL:PT1H
BEGIN:VTIMEZONE
TZID:Australia/Melbourne
BEGIN:STANDARD
TZOFFSETFROM:+1100
TZOFFSETTO:+1000
TZNAME:AEST
DTSTART:20240406T160000
END:STANDARD
BEGIN:DAYLIGHT
TZOFFSETFROM:+1000
TZOFFSETTO:+1100
TZNAME:AEDT
DTSTART:20241005T160000
END:DAYLIGHT
BEGIN:STANDARD
TZOFFSETFROM:+1100
TZOFFSETTO:+1000
TZNAME:AEST
DTSTART:20250405T160000
END:STANDARD
BEGIN:DAYLIGHT
TZOFFSETFROM:+1000
TZOFFSETTO:+1100
TZNAME:AEDT
DTSTART:20251004T160000
END:DAYLIGHT
BEGIN:STANDARD
TZOFFSETFROM:+1100
TZOFFSETTO:+1000
TZNAME:AEST
DTSTART:20260404T160000
END:STANDARD
BEGIN:DAYLIGHT
TZOFFSETFROM:+1000
TZOFFSETTO:+1100
TZNAME:AEDT
DTSTART:20261003T160000
END:DAYLIGHT
END:VTIMEZONE
BEGIN:VEVENT
DTSTART;VALUE=DATE:20250513
DTEND;VALUE=DATE:20250514
DTSTAMP:20260420T213618
CREATED:20250416T051459Z
LAST-MODIFIED:20250416T051459Z
UID:10001713-1747094400-1747180799@southsafe.org.au
SUMMARY:IDAHOBIT Day | Uniting Prahran
DESCRIPTION:At Uniting we celebrate our diversity and welcome all people regardless of ethnicity\, faith\, age\, disability \,culture\, language\, gender identity or sexual orientation. We welcome lesbian\, gay\, bisexual\, transgender\, intersex\, and queer (LGBTIQA+) people. And we pledge to provide inclusive and non-discriminatory services. \nJoin us in celebrating at each site as we create a collaborative artwork that will come together to form an LGBTIQA+ flag! Plus\, make your own rainbow shoelace beads to show your pride. Don’t miss this vibrant and inclusive event \nSee the Flyer here
URL:https://southsafe.org.au/event/idahobit-day-uniting-prahran/
LOCATION:Uniting Prahran\, Level 4\, 211 Chapel Street\, Prahran\, Victoria\, 3181\, Australia
CATEGORIES:LGBTIQ+
GEO:-37.8510506;144.9932622
X-APPLE-STRUCTURED-LOCATION;VALUE=URI;X-ADDRESS=Uniting Prahran Level 4 211 Chapel Street Prahran Victoria 3181 Australia;X-APPLE-RADIUS=500;X-TITLE=Level 4\, 211 Chapel Street:geo:144.9932622,-37.8510506
END:VEVENT
END:VCALENDAR