BEGIN:VCALENDAR
VERSION:2.0
PRODID:-//South Safe - ECPv6.15.20//NONSGML v1.0//EN
CALSCALE:GREGORIAN
METHOD:PUBLISH
X-WR-CALNAME:South Safe
X-ORIGINAL-URL:https://southsafe.org.au
X-WR-CALDESC:Events for South Safe
REFRESH-INTERVAL;VALUE=DURATION:PT1H
X-Robots-Tag:noindex
X-PUBLISHED-TTL:PT1H
BEGIN:VTIMEZONE
TZID:Australia/Melbourne
BEGIN:STANDARD
TZOFFSETFROM:+1100
TZOFFSETTO:+1000
TZNAME:AEST
DTSTART:20240406T160000
END:STANDARD
BEGIN:DAYLIGHT
TZOFFSETFROM:+1000
TZOFFSETTO:+1100
TZNAME:AEDT
DTSTART:20241005T160000
END:DAYLIGHT
BEGIN:STANDARD
TZOFFSETFROM:+1100
TZOFFSETTO:+1000
TZNAME:AEST
DTSTART:20250405T160000
END:STANDARD
BEGIN:DAYLIGHT
TZOFFSETFROM:+1000
TZOFFSETTO:+1100
TZNAME:AEDT
DTSTART:20251004T160000
END:DAYLIGHT
BEGIN:STANDARD
TZOFFSETFROM:+1100
TZOFFSETTO:+1000
TZNAME:AEST
DTSTART:20260404T160000
END:STANDARD
BEGIN:DAYLIGHT
TZOFFSETFROM:+1000
TZOFFSETTO:+1100
TZNAME:AEDT
DTSTART:20261003T160000
END:DAYLIGHT
END:VTIMEZONE
BEGIN:VEVENT
DTSTART;TZID=Australia/Melbourne:20250617T080000
DTEND;TZID=Australia/Melbourne:20250617T170000
DTSTAMP:20260420T233632
CREATED:20250207T054058Z
LAST-MODIFIED:20250207T054058Z
UID:10001643-1750147200-1750179600@southsafe.org.au
SUMMARY:National Homelessness Conference | Homelessness Australia
DESCRIPTION:From June 17-18\, Homelessness Australia and Homelessness Queensland will be hosting the National Homelessness Conference on the Gold Coast\, followed by a one-day homelessness practice workshop on 19 June. \nThis is a unique opportunity for the homelessness sector to come together\, discuss the emerging issues and practice challenges in homelessness\, and plan action that will drive down homelessness and strengthen people’s housing stability and access to support. \nGood news – the preliminary program for the summit is now available!\nHear about new research and innovative programs and strategies for collaboration from emerging and established leaders across the homelessness sector including: \n\nKate Colvin\, Chief Executive Officer\, Homelessness Australia\nStephen Simpson\, Chief Executive Officer\, Homelessness Queensland\nSamuel O’Connor MP\, Minister for Housing and Public Works and Minister for Youth\, QLD Government\nFrances Crimmins\, Chair\, Homelessness Australia; Chief Executive Officer\, YWCA Canberra\nNeil Willmett\, Chief Executive Officer\, Aboriginal and Torres Strait Islander Housing Queensland\nCatherine Robinson\, Associate Professor in Communities and Social Justice Lead\, Homelessness ColLAB\, University of Tasmania
URL:https://southsafe.org.au/event/national-homelessness-conference-homelessness-australia/2025-06-17/
LOCATION:QT Gold Coast\, Yugambeh\, 7 Staghorn Ave\, Surfers Paradise\, QLD\, 4217\, Australia
CATEGORIES:Conference,Housing & Homelessness
END:VEVENT
BEGIN:VEVENT
DTSTART;TZID=Australia/Melbourne:20250618T080000
DTEND;TZID=Australia/Melbourne:20250618T170000
DTSTAMP:20260420T233632
CREATED:20250207T054058Z
LAST-MODIFIED:20250207T054058Z
UID:10001644-1750233600-1750266000@southsafe.org.au
SUMMARY:National Homelessness Conference | Homelessness Australia
DESCRIPTION:From June 17-18\, Homelessness Australia and Homelessness Queensland will be hosting the National Homelessness Conference on the Gold Coast\, followed by a one-day homelessness practice workshop on 19 June. \nThis is a unique opportunity for the homelessness sector to come together\, discuss the emerging issues and practice challenges in homelessness\, and plan action that will drive down homelessness and strengthen people’s housing stability and access to support. \nGood news – the preliminary program for the summit is now available!\nHear about new research and innovative programs and strategies for collaboration from emerging and established leaders across the homelessness sector including: \n\nKate Colvin\, Chief Executive Officer\, Homelessness Australia\nStephen Simpson\, Chief Executive Officer\, Homelessness Queensland\nSamuel O’Connor MP\, Minister for Housing and Public Works and Minister for Youth\, QLD Government\nFrances Crimmins\, Chair\, Homelessness Australia; Chief Executive Officer\, YWCA Canberra\nNeil Willmett\, Chief Executive Officer\, Aboriginal and Torres Strait Islander Housing Queensland\nCatherine Robinson\, Associate Professor in Communities and Social Justice Lead\, Homelessness ColLAB\, University of Tasmania
URL:https://southsafe.org.au/event/national-homelessness-conference-homelessness-australia/2025-06-18/
LOCATION:QT Gold Coast\, Yugambeh\, 7 Staghorn Ave\, Surfers Paradise\, QLD\, 4217\, Australia
CATEGORIES:Conference,Housing & Homelessness
END:VEVENT
END:VCALENDAR