BEGIN:VCALENDAR
VERSION:2.0
PRODID:-//South Safe - ECPv6.15.20//NONSGML v1.0//EN
CALSCALE:GREGORIAN
METHOD:PUBLISH
X-ORIGINAL-URL:https://southsafe.org.au
X-WR-CALDESC:Events for South Safe
REFRESH-INTERVAL;VALUE=DURATION:PT1H
X-Robots-Tag:noindex
X-PUBLISHED-TTL:PT1H
BEGIN:VTIMEZONE
TZID:Australia/Melbourne
BEGIN:STANDARD
TZOFFSETFROM:+1100
TZOFFSETTO:+1000
TZNAME:AEST
DTSTART:20240406T160000
END:STANDARD
BEGIN:DAYLIGHT
TZOFFSETFROM:+1000
TZOFFSETTO:+1100
TZNAME:AEDT
DTSTART:20241005T160000
END:DAYLIGHT
BEGIN:STANDARD
TZOFFSETFROM:+1100
TZOFFSETTO:+1000
TZNAME:AEST
DTSTART:20250405T160000
END:STANDARD
BEGIN:DAYLIGHT
TZOFFSETFROM:+1000
TZOFFSETTO:+1100
TZNAME:AEDT
DTSTART:20251004T160000
END:DAYLIGHT
BEGIN:STANDARD
TZOFFSETFROM:+1100
TZOFFSETTO:+1000
TZNAME:AEST
DTSTART:20260404T160000
END:STANDARD
BEGIN:DAYLIGHT
TZOFFSETFROM:+1000
TZOFFSETTO:+1100
TZNAME:AEDT
DTSTART:20261003T160000
END:DAYLIGHT
END:VTIMEZONE
BEGIN:VEVENT
DTSTART;TZID=Australia/Melbourne:20250610T110000
DTEND;TZID=Australia/Melbourne:20250610T120000
DTSTAMP:20260420T200226
CREATED:20250512T044529Z
LAST-MODIFIED:20250512T044830Z
UID:10001730-1749553200-1749556800@southsafe.org.au
SUMMARY:Navigating financial setbacks\, debts & scams | Good Sheppherd Financial Independence Hub
DESCRIPTION:Helpful solutions and services available for when you may experience financial hardship. \nNavigating financial hardship for people of all genders who have experienced financial abuse and/or domestic and family violence. These sessions are designed to provide an introduction to the Financial Independence Hub and initial information in understanding the supports available. \n\nWhat supports are available?\nWhat payments and grants may you be eligible for?\nHow can FIH support you\n\nRegister here
URL:https://southsafe.org.au/event/navigating-financial-setbacks-debts-scams/
LOCATION:Online
CATEGORIES:Financial Abuse
END:VEVENT
BEGIN:VEVENT
DTSTART;TZID=Australia/Melbourne:20250617T100000
DTEND;TZID=Australia/Melbourne:20250617T120000
DTSTAMP:20260420T200226
CREATED:20250508T014906Z
LAST-MODIFIED:20250508T014906Z
UID:10001721-1750154400-1750161600@southsafe.org.au
SUMMARY:Workshop: Recovering From Financial Abuse | Consumer Action Law Centre
DESCRIPTION:FREE online workshop: Financial Recovery from Family Violence Are your clients struggling with family violence-related debts? Consumer Action Law Centre is here to help! We are offering a free 2-hour workshop for family violence workers and community workers about: • Options to help your clients recover from financial abuse • Your clients’ legal rights against banks and businesses about their money problems • Practical strategies for complaining to banks and businesses • What free Ombudsman schemes can do for your clients • How you and your clients can get free and independent financial help and legal advice  The workshop will include discussion of case studies and an interactive Q & A session. The workshop will bring people together from different agencies for mutual learning – feel free to share this invitation with your colleagues and others in your network. Please note this workshop is a repeat of the workshops held in 2022\, 2023\, 2024. It is not suitable for financial counsellors. \nRegister Here
URL:https://southsafe.org.au/event/workshop-recovering-from-financial-abuse-consumer-action-law-centre/
LOCATION:Online
CATEGORIES:Family Violence,Financial Abuse,Workshop
END:VEVENT
BEGIN:VEVENT
DTSTART;TZID=Australia/Melbourne:20250624T160000
DTEND;TZID=Australia/Melbourne:20250624T170000
DTSTAMP:20260420T200226
CREATED:20250512T045735Z
LAST-MODIFIED:20250512T045735Z
UID:10001731-1750780800-1750784400@southsafe.org.au
SUMMARY:Discovering my money strengths | Good Shepherd
DESCRIPTION:This session is for people of all genders who have experienced financial abuse and/or domestic and family violence. These sessions are designed to provide an introduction to the Financial Independence Hub and initial information in understanding the supports available. \n  \nBuilding confidence with finances \n\nIntroduction to Money Personalities\nRecognising strengths\nAccessing supports\nSupports available with the Financial Independence Hub\n\nRegister here
URL:https://southsafe.org.au/event/discovering-my-money-strengths-good-shepherd/
LOCATION:Online
CATEGORIES:Financial Abuse
END:VEVENT
END:VCALENDAR