BEGIN:VCALENDAR
VERSION:2.0
PRODID:-//South Safe - ECPv6.15.20//NONSGML v1.0//EN
CALSCALE:GREGORIAN
METHOD:PUBLISH
X-ORIGINAL-URL:https://southsafe.org.au
X-WR-CALDESC:Events for South Safe
REFRESH-INTERVAL;VALUE=DURATION:PT1H
X-Robots-Tag:noindex
X-PUBLISHED-TTL:PT1H
BEGIN:VTIMEZONE
TZID:Australia/Melbourne
BEGIN:STANDARD
TZOFFSETFROM:+1100
TZOFFSETTO:+1000
TZNAME:AEST
DTSTART:20220402T160000
END:STANDARD
BEGIN:DAYLIGHT
TZOFFSETFROM:+1000
TZOFFSETTO:+1100
TZNAME:AEDT
DTSTART:20221001T160000
END:DAYLIGHT
BEGIN:STANDARD
TZOFFSETFROM:+1100
TZOFFSETTO:+1000
TZNAME:AEST
DTSTART:20230401T160000
END:STANDARD
BEGIN:DAYLIGHT
TZOFFSETFROM:+1000
TZOFFSETTO:+1100
TZNAME:AEDT
DTSTART:20230930T160000
END:DAYLIGHT
BEGIN:STANDARD
TZOFFSETFROM:+1100
TZOFFSETTO:+1000
TZNAME:AEST
DTSTART:20240406T160000
END:STANDARD
BEGIN:DAYLIGHT
TZOFFSETFROM:+1000
TZOFFSETTO:+1100
TZNAME:AEDT
DTSTART:20241005T160000
END:DAYLIGHT
END:VTIMEZONE
BEGIN:VEVENT
DTSTART;TZID=Australia/Melbourne:20230629T130000
DTEND;TZID=Australia/Melbourne:20230629T143000
DTSTAMP:20260423T081210
CREATED:20230531T063843Z
LAST-MODIFIED:20230531T063843Z
UID:10001228-1688043600-1688049000@southsafe.org.au
SUMMARY:Supporting women with intellectual or cognitive disability–understanding abuse through technology | eSafetywomen
DESCRIPTION:This free 90 minute webinar is available for workforces who support women with intellectual or cognitive disability. The session intends to build confidence in practitioners to identify how technology can be misused against women and learn ways to support clients. \nClick here for more information and to register
URL:https://southsafe.org.au/event/supporting-women-with-intellectual-or-cognitive-disability-understanding-abuse-through-technology-esafetywomen/
LOCATION:Online
CATEGORIES:Disability,Family Violence,Webinar
ATTACH;FMTTYPE=image/jpeg:https://southsafe.org.au/wp-content/uploads/2023/05/martin-sanchez-dA3y1xxvBnU-unsplash.jpg
END:VEVENT
END:VCALENDAR