BEGIN:VCALENDAR
VERSION:2.0
PRODID:-//South Safe - ECPv6.15.20//NONSGML v1.0//EN
CALSCALE:GREGORIAN
METHOD:PUBLISH
X-WR-CALNAME:South Safe
X-ORIGINAL-URL:https://southsafe.org.au
X-WR-CALDESC:Events for South Safe
REFRESH-INTERVAL;VALUE=DURATION:PT1H
X-Robots-Tag:noindex
X-PUBLISHED-TTL:PT1H
BEGIN:VTIMEZONE
TZID:Australia/Melbourne
BEGIN:STANDARD
TZOFFSETFROM:+1100
TZOFFSETTO:+1000
TZNAME:AEST
DTSTART:20220402T160000
END:STANDARD
BEGIN:DAYLIGHT
TZOFFSETFROM:+1000
TZOFFSETTO:+1100
TZNAME:AEDT
DTSTART:20221001T160000
END:DAYLIGHT
BEGIN:STANDARD
TZOFFSETFROM:+1100
TZOFFSETTO:+1000
TZNAME:AEST
DTSTART:20230401T160000
END:STANDARD
BEGIN:DAYLIGHT
TZOFFSETFROM:+1000
TZOFFSETTO:+1100
TZNAME:AEDT
DTSTART:20230930T160000
END:DAYLIGHT
BEGIN:STANDARD
TZOFFSETFROM:+1100
TZOFFSETTO:+1000
TZNAME:AEST
DTSTART:20240406T160000
END:STANDARD
BEGIN:DAYLIGHT
TZOFFSETFROM:+1000
TZOFFSETTO:+1100
TZNAME:AEDT
DTSTART:20241005T160000
END:DAYLIGHT
END:VTIMEZONE
BEGIN:VEVENT
DTSTART;TZID=Australia/Melbourne:20230620T110000
DTEND;TZID=Australia/Melbourne:20230620T120000
DTSTAMP:20260423T050027
CREATED:20230619T032709Z
LAST-MODIFIED:20230619T032709Z
UID:10001250-1687258800-1687262400@southsafe.org.au
SUMMARY:Actions for Prevention - A gender and disability resource launch | Women with Disabilities Victoria
DESCRIPTION:Join Women with Disabilities Victoria Gender and Disability Workforce Development Program and Women’s Health Capacity Building Program in this one-hour session online highlighting how gender and disability-based discrimination intersects and increases the likelihood of women with disabilities experiencing violence. We will be showcasing our resources along with discussions with women with lived experience on prevention of violence against women with disabilities. \nClick here to register
URL:https://southsafe.org.au/event/actions-for-prevention-a-gender-and-disability-resource-launch-women-with-disabilities-victoria/
LOCATION:Online
CATEGORIES:Disability,Family Violence,Primary Prevention,Webinar
ATTACH;FMTTYPE=image/jpeg:https://southsafe.org.au/wp-content/uploads/2023/06/windows-6G6akT8biLg-unsplash.jpg
ORGANIZER;CN="Women with Disabilities Victoria":MAILTO:wdv@wdv.org.au
END:VEVENT
END:VCALENDAR