BEGIN:VCALENDAR
VERSION:2.0
PRODID:-//South Safe - ECPv6.15.20//NONSGML v1.0//EN
CALSCALE:GREGORIAN
METHOD:PUBLISH
X-WR-CALNAME:South Safe
X-ORIGINAL-URL:https://southsafe.org.au
X-WR-CALDESC:Events for South Safe
REFRESH-INTERVAL;VALUE=DURATION:PT1H
X-Robots-Tag:noindex
X-PUBLISHED-TTL:PT1H
BEGIN:VTIMEZONE
TZID:Australia/Melbourne
BEGIN:STANDARD
TZOFFSETFROM:+1100
TZOFFSETTO:+1000
TZNAME:AEST
DTSTART:20220402T160000
END:STANDARD
BEGIN:DAYLIGHT
TZOFFSETFROM:+1000
TZOFFSETTO:+1100
TZNAME:AEDT
DTSTART:20221001T160000
END:DAYLIGHT
BEGIN:STANDARD
TZOFFSETFROM:+1100
TZOFFSETTO:+1000
TZNAME:AEST
DTSTART:20230401T160000
END:STANDARD
BEGIN:DAYLIGHT
TZOFFSETFROM:+1000
TZOFFSETTO:+1100
TZNAME:AEDT
DTSTART:20230930T160000
END:DAYLIGHT
BEGIN:STANDARD
TZOFFSETFROM:+1100
TZOFFSETTO:+1000
TZNAME:AEST
DTSTART:20240406T160000
END:STANDARD
BEGIN:DAYLIGHT
TZOFFSETFROM:+1000
TZOFFSETTO:+1100
TZNAME:AEDT
DTSTART:20241005T160000
END:DAYLIGHT
END:VTIMEZONE
BEGIN:VEVENT
DTSTART;TZID=Australia/Melbourne:20230927T080000
DTEND;TZID=Australia/Melbourne:20230927T170000
DTSTAMP:20260420T042011
CREATED:20230814T050840Z
LAST-MODIFIED:20230814T050840Z
UID:10001292-1695801600-1695834000@southsafe.org.au
SUMMARY:Improving outcomes for children experiencing vulnerability & risk | The Hatchery
DESCRIPTION:Join senior leaders and practitioners from across Australia working in child protection\, safety and wellbeing\, where you will have the opportunity to discuss best-practice and evidence-based approaches to improve outcomes for children experiencing vulnerability. \nThe conference will showcase how all Australians can work together to achieve the best outcomes for vulnerable children and those experiencing disadvantage. \nThis summit is targeted at people working in child safety and protection as well as domestic and family violence practitioners\, out of home care practitioners\, early education and education providers. It will be useful for other direct care workers supporting children\, and anyone working directly with young people and their parents or caregivers. \nClick here for more info and to register
URL:https://southsafe.org.au/event/improving-outcomes-for-children-experiencing-vulnerability-risk-the-hatchery/2023-09-27/
LOCATION:Online
CATEGORIES:Children,Family Services,For Professionals/Practitioners,Young People
ATTACH;FMTTYPE=image/jpeg:https://southsafe.org.au/wp-content/uploads/2023/08/guillaume-de-germain-fgmLRBlUIpc-unsplash-1.jpg
END:VEVENT
END:VCALENDAR