BEGIN:VCALENDAR
VERSION:2.0
PRODID:-//South Safe - ECPv6.15.20//NONSGML v1.0//EN
CALSCALE:GREGORIAN
METHOD:PUBLISH
X-WR-CALNAME:South Safe
X-ORIGINAL-URL:https://southsafe.org.au
X-WR-CALDESC:Events for South Safe
REFRESH-INTERVAL;VALUE=DURATION:PT1H
X-Robots-Tag:noindex
X-PUBLISHED-TTL:PT1H
BEGIN:VTIMEZONE
TZID:Australia/Melbourne
BEGIN:STANDARD
TZOFFSETFROM:+1100
TZOFFSETTO:+1000
TZNAME:AEST
DTSTART:20220402T160000
END:STANDARD
BEGIN:DAYLIGHT
TZOFFSETFROM:+1000
TZOFFSETTO:+1100
TZNAME:AEDT
DTSTART:20221001T160000
END:DAYLIGHT
BEGIN:STANDARD
TZOFFSETFROM:+1100
TZOFFSETTO:+1000
TZNAME:AEST
DTSTART:20230401T160000
END:STANDARD
BEGIN:DAYLIGHT
TZOFFSETFROM:+1000
TZOFFSETTO:+1100
TZNAME:AEDT
DTSTART:20230930T160000
END:DAYLIGHT
BEGIN:STANDARD
TZOFFSETFROM:+1100
TZOFFSETTO:+1000
TZNAME:AEST
DTSTART:20240406T160000
END:STANDARD
BEGIN:DAYLIGHT
TZOFFSETFROM:+1000
TZOFFSETTO:+1100
TZNAME:AEDT
DTSTART:20241005T160000
END:DAYLIGHT
END:VTIMEZONE
BEGIN:VEVENT
DTSTART;TZID=Australia/Melbourne:20230913T130000
DTEND;TZID=Australia/Melbourne:20230913T140000
DTSTAMP:20260423T220239
CREATED:20230828T064822Z
LAST-MODIFIED:20230828T064822Z
UID:10001321-1694610000-1694613600@southsafe.org.au
SUMMARY:Supporting children and young people bereaved by domestic homicide | AIFS
DESCRIPTION:The murder of a child’s parent in the context of domestic violence is a traumatic experience that has immediate and long-term effects on a child’s social\, emotional and cognitive development. Children and young people may experience ongoing distress\, safety concerns and family conflict. Many also face the loss of the perpetrator parent. \nAlthough supporting these children and young people is critical\, there are no evidence-based guidelines to determine who is best placed to care for them or how. Decisions about their lives are often made by family\, the police\, child protection and other professionals with little input from the children themselves.\nThe voices of these survivors – as children and as adults – are crucial to developing a greater understanding of their experiences in relation to living arrangements\, family and peer relationships and wellbeing. \nClick here to register
URL:https://southsafe.org.au/event/supporting-children-and-young-people-bereaved-by-domestic-homicide-aifs/
LOCATION:Online
CATEGORIES:Children,Family Services,Family Violence,For Professionals/Practitioners,Webinar,Young People
ATTACH;FMTTYPE=image/jpeg:https://southsafe.org.au/wp-content/uploads/2023/08/alvaro-reyes-3Cigxs7xEkM-unsplash.jpg
ORGANIZER;CN="AIFS":MAILTO:enquiries@aifs.gov.au
END:VEVENT
END:VCALENDAR