BEGIN:VCALENDAR
VERSION:2.0
PRODID:-//South Safe - ECPv6.15.20//NONSGML v1.0//EN
CALSCALE:GREGORIAN
METHOD:PUBLISH
X-WR-CALNAME:South Safe
X-ORIGINAL-URL:https://southsafe.org.au
X-WR-CALDESC:Events for South Safe
REFRESH-INTERVAL;VALUE=DURATION:PT1H
X-Robots-Tag:noindex
X-PUBLISHED-TTL:PT1H
BEGIN:VTIMEZONE
TZID:Australia/Melbourne
BEGIN:STANDARD
TZOFFSETFROM:+1100
TZOFFSETTO:+1000
TZNAME:AEST
DTSTART:20250405T160000
END:STANDARD
BEGIN:DAYLIGHT
TZOFFSETFROM:+1000
TZOFFSETTO:+1100
TZNAME:AEDT
DTSTART:20251004T160000
END:DAYLIGHT
BEGIN:STANDARD
TZOFFSETFROM:+1100
TZOFFSETTO:+1000
TZNAME:AEST
DTSTART:20260404T160000
END:STANDARD
BEGIN:DAYLIGHT
TZOFFSETFROM:+1000
TZOFFSETTO:+1100
TZNAME:AEDT
DTSTART:20261003T160000
END:DAYLIGHT
BEGIN:STANDARD
TZOFFSETFROM:+1100
TZOFFSETTO:+1000
TZNAME:AEST
DTSTART:20270403T160000
END:STANDARD
BEGIN:DAYLIGHT
TZOFFSETFROM:+1000
TZOFFSETTO:+1100
TZNAME:AEDT
DTSTART:20271002T160000
END:DAYLIGHT
END:VTIMEZONE
BEGIN:VEVENT
DTSTART;TZID=Australia/Melbourne:20260427T080000
DTEND;TZID=Australia/Melbourne:20260430T170000
DTSTAMP:20260423T092503
CREATED:20250217T053807Z
LAST-MODIFIED:20250822T033002Z
UID:10001652-1777276800-1777568400@southsafe.org.au
SUMMARY:Women Deliver Conference in 2026
DESCRIPTION:Melbourne will host the Women Deliver Conference 2026\, a major gender equality event\, for the first time in the Oceania Pacific region. The event\, held from 27-30 April 2026\, will highlight regional gender equality efforts and foster new partnerships. The event is expecting to attract over 6\,500 global gender equality advocates. \nRegister here
URL:https://southsafe.org.au/event/women-deliver-conference-in-2026/
LOCATION:Melbourne Convention & Exhibition Centre\, 1 Convention Centre Place\, South Wharf\, Victoria\, 3006\, Australia
CATEGORIES:Conference
ORGANIZER;CN="Women Deliver":MAILTO:info@womendeliver.org
END:VEVENT
BEGIN:VEVENT
DTSTART;TZID=Australia/Melbourne:20260430T130000
DTEND;TZID=Australia/Melbourne:20260430T143000
DTSTAMP:20260423T092504
CREATED:20260401T025517Z
LAST-MODIFIED:20260401T025540Z
UID:10002001-1777554000-1777559400@southsafe.org.au
SUMMARY:Understanding Aboriginal child-rearing principles to strengthen early years engagement
DESCRIPTION:Join the Early Start Bright Future team and Dr Mishel McMahon to explore Aboriginal child-rearing principles and way indigenous knowledge systems shape children’s early learning and family life.  Participants will gain insights into how Aboriginal perspectives\, kinship structures and caregiving approaches influence a child’s learning as they enter early learning environments. \nRegister here
URL:https://southsafe.org.au/event/understanding-aboriginal-child-rearing-principles-to-strengthen-early-years-engagement/
LOCATION:Online
END:VEVENT
BEGIN:VEVENT
DTSTART;TZID=Australia/Melbourne:20260430T193000
DTEND;TZID=Australia/Melbourne:20260430T220000
DTSTAMP:20260423T092504
CREATED:20260408T013858Z
LAST-MODIFIED:20260408T013858Z
UID:10002002-1777577400-1777586400@southsafe.org.au
SUMMARY:Pre-Release Screening: Life Could be a Dream
DESCRIPTION:We’d love you to join us for something special. \n  \nOn Thursday 30th April Good Shepherd Australia New Zealand is hosting a pre-release screening of Life Could Be a Dream at Palace Cinemas Palace Cinemas Como\, South Yarra. \n  \nLife Could Be a Dream follows a mother and her teenage son as they navigate hope\, survival and the possibility of a different life\, confronting the realities of control\, safety and choice. \n  \nWatch the trailer  \nEvent details\nDate:                 Thursday 30th April\nTime:                 Arrival from 7:30pm for a 8:00pm screening\nLocation:          Palace Cinemas Como\, South Yarra\nTickets:             $50 per person \n  \nYour ticket includes: \n\nPre-screening drinks and networking\nPre-release screening of Life Could Be a Dream\nA 30-minute facilitated panel discussion\nOpportunity to connect with speakers and guests following the event\nA contribution towards Good Shepherd’s work supporting women and families to build safety\, stability and financial independence\n\n  \nThis is more than a film. It is a powerful story that brings into focus the realities of family violence\, coercive control and financial abuse\, reaching beyond the sector to build broader awareness and understanding. \nFollowing the screening\, the panel discussion will explore a key theme from the film and how raising awareness can help open up pathways to greater support for those who need it most. \n  \nSeats are limited\, so we encourage you to secure your place early.  We would greatly appreciate you sharing this with your networks to help extend the reach of this important conversation. \n  \nBook your tickets \n 
URL:https://southsafe.org.au/event/pre-release-screening-life-could-be-a-dream/
LOCATION:Palace Cinemas Como\, 299 Toorak Rd\, South Yarra\, VIC\, 3141\, Australia
END:VEVENT
END:VCALENDAR