BEGIN:VCALENDAR
VERSION:2.0
PRODID:-//South Safe - ECPv6.15.20//NONSGML v1.0//EN
CALSCALE:GREGORIAN
METHOD:PUBLISH
X-WR-CALNAME:South Safe
X-ORIGINAL-URL:https://southsafe.org.au
X-WR-CALDESC:Events for South Safe
REFRESH-INTERVAL;VALUE=DURATION:PT1H
X-Robots-Tag:noindex
X-PUBLISHED-TTL:PT1H
BEGIN:VTIMEZONE
TZID:Australia/Melbourne
BEGIN:STANDARD
TZOFFSETFROM:+1100
TZOFFSETTO:+1000
TZNAME:AEST
DTSTART:20250405T160000
END:STANDARD
BEGIN:DAYLIGHT
TZOFFSETFROM:+1000
TZOFFSETTO:+1100
TZNAME:AEDT
DTSTART:20251004T160000
END:DAYLIGHT
BEGIN:STANDARD
TZOFFSETFROM:+1100
TZOFFSETTO:+1000
TZNAME:AEST
DTSTART:20260404T160000
END:STANDARD
BEGIN:DAYLIGHT
TZOFFSETFROM:+1000
TZOFFSETTO:+1100
TZNAME:AEDT
DTSTART:20261003T160000
END:DAYLIGHT
BEGIN:STANDARD
TZOFFSETFROM:+1100
TZOFFSETTO:+1000
TZNAME:AEST
DTSTART:20270403T160000
END:STANDARD
BEGIN:DAYLIGHT
TZOFFSETFROM:+1000
TZOFFSETTO:+1100
TZNAME:AEDT
DTSTART:20271002T160000
END:DAYLIGHT
END:VTIMEZONE
BEGIN:VEVENT
DTSTART;VALUE=DATE:20260325
DTEND;VALUE=DATE:20260328
DTSTAMP:20260423T201031
CREATED:20260319T031911Z
LAST-MODIFIED:20260319T031911Z
UID:10001992-1774396800-1774655999@southsafe.org.au
SUMMARY:Turning Point Symposium - Reframing Pre-Birth & Infant Safety Reports Through Effective Solutions
DESCRIPTION:This landmark event will bring together voices of lived experience of young parents with leading practitioners\, policymakers\, and researchers specialising in the first 1000 days of early intervention. \nThe program will spotlight innovative approaches to service design and policy in relation to pre-birth and infant safety reports\, with a particular focus on young parents. Through keynotes\, presentations and collaborative sessions\, the symposium will facilitate the sharing of insights\, research\, and practice innovations\, ensuring young parents are central to shaping the future of early childhood support systems. \nRegister here
URL:https://southsafe.org.au/event/turning-point-symposium-reframing-pre-birth-infant-safety-reports-through-effective-solutions/
LOCATION:State Library Victoria\, 328 Swanston Street\, Melbourne\, Victoria\, 3000\, Australia
END:VEVENT
BEGIN:VEVENT
DTSTART;TZID=Australia/Melbourne:20260326T110000
DTEND;TZID=Australia/Melbourne:20260326T130000
DTSTAMP:20260423T201031
CREATED:20260226T030553Z
LAST-MODIFIED:20260226T030553Z
UID:10001972-1774522800-1774530000@southsafe.org.au
SUMMARY:Deepening Trauma-and Violence-Informed Care (TVIC) in Family Violence Practice - 3 Part Workshop | ShantiWorks
DESCRIPTION:Part 1: Wednesday 25th March 2026 \nPart 2: Thursday 26th March 2026 \nPart 3: Wednesday 1st April 2026 \nTime: Each session runs 11am – 1pm (AEDT) \nCost: $300 per workshop and $750 for all three \nPayment is via paypal but please note that there is an option to pay via card in Paypal if you do not have to have a Paypal account. \nThis advanced TVIC workshop series builds on foundational understandings of TVIC practice and supports practitioners\, leaders\, and sector partners to deepen their skills across three interconnected areas: structural and systemic violence\, accountability with people who use violence\, and TVIC‑aligned leadership. Each session offers evidence‑informed frameworks\, reflective practice\, and practical tools applicable for domestic and family violence contexts. \nPart 1: This session strengthens practitioners’ capacity to recognise and respond to the broader conditions that shape victim‑survivors’ choices\, risks\, and opportunities. It explores how structural and systemic violence such as racism\, poverty\, colonisation\, ableism\, and institutional harm intersect with interpersonal violence and influence safety planning\, decision‑making\, and service access. \nPart 2:  This session focuses on strengthening accountability work with people who use violence while maintaining clear boundaries and a dignity‑centred approach. We examine how trauma histories\, shame\, defensiveness\, and structural disadvantage can shape behaviour without excusing harm. \nPart 3: This session is designed for leaders\, supervisors\, coordinators\, and emerging leaders who want to embed TVIC across teams and organisational systems. We explore how formal and informal leadership practices shape safety\, culture\, and practitioner wellbeing. \n  \nThis workshop series will offer: \n\n\nA deeper understanding of how structural and systemic violence shapes risk\, choice\, safety\, and service access. \n\n\nExplore ways for recognising contexts of constraint and supporting victim‑survivor agency. \n\n\nStrategies for integrating system advocacy into everyday practice and strengthening culturally responsive\, intersectional approaches. \n\n\nPractical tools for holding dignity‑centred\, accountability conversations with people who use violence. \n\n\nMethods for integrating trauma histories into perpetrator work without excusing or minimising harm. \n\n\nLeadership skills for embedding TVIC across teams\, programs\, and organisational systems. \n\n\nStrategies for aligning policies\, supervision\, and everyday decision‑making with TVIC principles.
URL:https://southsafe.org.au/event/deepening-trauma-and-violence-informed-care-tvic-in-family-violence-practice-3-part-workshop-shantiworks/2026-03-26/
LOCATION:Online
END:VEVENT
BEGIN:VEVENT
DTSTART;TZID=Australia/Melbourne:20260326T113000
DTEND;TZID=Australia/Melbourne:20260326T130000
DTSTAMP:20260423T201031
CREATED:20260210T044419Z
LAST-MODIFIED:20260210T044419Z
UID:10001958-1774524600-1774530000@southsafe.org.au
SUMMARY:Soundbyte Session - Leaning into Resistance |
DESCRIPTION:Leaning into Resistance Soundbyte Session supports participants to strengthen their confidence and capability in responding to resistance as a meaningful and expected part of change work. Through a reflective and practice-informed approach\, participants will explore how to work constructively with defensiveness\, minimisation\, and dominant narratives while maintaining accountability and safety. \nThis 1.5 hour session touches on practical strategies for active listening\, structured interruption\, and navigating complex dynamics in group and individual work. Grounded in real-world practice\, the training supports practitioners to balance empathy with responsibility\, recognise the functions of resistance\, and facilitate movement toward insight\, accountability\, and behavioural change. \nRegister here
URL:https://southsafe.org.au/event/soundbyte-session-leaning-into-resistance/
LOCATION:Online
ORGANIZER;CN="Pandora Projects":MAILTO:pandoraprojects@outlook.com
END:VEVENT
END:VCALENDAR