BEGIN:VCALENDAR
VERSION:2.0
PRODID:-//South Safe - ECPv6.15.20//NONSGML v1.0//EN
CALSCALE:GREGORIAN
METHOD:PUBLISH
X-ORIGINAL-URL:https://southsafe.org.au
X-WR-CALDESC:Events for South Safe
REFRESH-INTERVAL;VALUE=DURATION:PT1H
X-Robots-Tag:noindex
X-PUBLISHED-TTL:PT1H
BEGIN:VTIMEZONE
TZID:Australia/Melbourne
BEGIN:STANDARD
TZOFFSETFROM:+1100
TZOFFSETTO:+1000
TZNAME:AEST
DTSTART:20250405T160000
END:STANDARD
BEGIN:DAYLIGHT
TZOFFSETFROM:+1000
TZOFFSETTO:+1100
TZNAME:AEDT
DTSTART:20251004T160000
END:DAYLIGHT
BEGIN:STANDARD
TZOFFSETFROM:+1100
TZOFFSETTO:+1000
TZNAME:AEST
DTSTART:20260404T160000
END:STANDARD
BEGIN:DAYLIGHT
TZOFFSETFROM:+1000
TZOFFSETTO:+1100
TZNAME:AEDT
DTSTART:20261003T160000
END:DAYLIGHT
BEGIN:STANDARD
TZOFFSETFROM:+1100
TZOFFSETTO:+1000
TZNAME:AEST
DTSTART:20270403T160000
END:STANDARD
BEGIN:DAYLIGHT
TZOFFSETFROM:+1000
TZOFFSETTO:+1100
TZNAME:AEDT
DTSTART:20271002T160000
END:DAYLIGHT
END:VTIMEZONE
BEGIN:VEVENT
DTSTART;VALUE=DATE:20260312
DTEND;VALUE=DATE:20260313
DTSTAMP:20260422T101809
CREATED:20251120T043812Z
LAST-MODIFIED:20251120T043812Z
UID:10001912-1773302400-1773334800@southsafe.org.au
SUMMARY:Pathways to Safety for First Nations Women and Children Forum | Aventedge & Gunawirra
DESCRIPTION:Be part of the first-ever gathering dedicated to building culturally safe\, community-led pathways for First Nations families. Presented in partnership with Gunawirra\, a leading charity supporting the safety and wellbeing of Aboriginal and Torres Strait Islander children and families\, the forum will feature voices such as Antoinette Braybrook AM (Djirra)\, Alira Tufui (AbSec)\, Isabella Copetti (QIFVLS)\, Dr. Sarah Brown (Child Family Community Australia)\, Professor Megan Davis (UNSW)\, and many more.\nExplore grassroots solutions addressing cycles of trauma\, discover effective approaches to family care and cultural safety\, and connect with a passionate network of advocates\, practitioners\, and policymakers.\nAttend and contribute to shaping stronger\, safer futures for First Nations communities. \nEvent details and registration: fnwc.aventedge.com
URL:https://southsafe.org.au/event/pathways-to-safety-for-first-nations-women-and-children-forum-aventedge-gunawirra/2026-03-12/
LOCATION:The Brighton Hotel Sydney\, Corner of Princess Street & The Grand Parade\, Brighton-Le-Sands\, NSW\, 2216
END:VEVENT
BEGIN:VEVENT
DTSTART;TZID=Australia/Melbourne:20260312T130000
DTEND;TZID=Australia/Melbourne:20260312T150000
DTSTAMP:20260422T101809
CREATED:20260119T012105Z
LAST-MODIFIED:20260119T012105Z
UID:10001940-1773320400-1773327600@southsafe.org.au
SUMMARY:Stepping Stones to Kinder South East Region
DESCRIPTION:This free online training will give you all the tools you need to support families to engage with a kindergarten program including kindergarten programs in long day care. \n  \nWhat we cover: \n\nThe kinder pathway including Early Start Kinder\, Pre-Prep and Free Kinder.\nChild Care Subsidy and Additional Child care Subsidy including writing support letters\nSupports including ECIB\, AEL\, CALD Outreach Initiative and Early Childhood LOOKOUT\nIdentity and immunisation requirements for kinder and child care.\nPractical tips to overcome common barriers\nResources to add to your professional toolkit\n\nRegister here
URL:https://southsafe.org.au/event/stepping-stones-to-kinder-south-east-region/
LOCATION:Online
ORGANIZER;CN="Early Start Bright Future":MAILTO:earlyyears@cfecfw.asn.au
END:VEVENT
END:VCALENDAR