BEGIN:VCALENDAR
VERSION:2.0
PRODID:-//South Safe - ECPv6.15.20//NONSGML v1.0//EN
CALSCALE:GREGORIAN
METHOD:PUBLISH
X-ORIGINAL-URL:https://southsafe.org.au
X-WR-CALDESC:Events for South Safe
REFRESH-INTERVAL;VALUE=DURATION:PT1H
X-Robots-Tag:noindex
X-PUBLISHED-TTL:PT1H
BEGIN:VTIMEZONE
TZID:Australia/Melbourne
BEGIN:STANDARD
TZOFFSETFROM:+1100
TZOFFSETTO:+1000
TZNAME:AEST
DTSTART:20230401T160000
END:STANDARD
BEGIN:DAYLIGHT
TZOFFSETFROM:+1000
TZOFFSETTO:+1100
TZNAME:AEDT
DTSTART:20230930T160000
END:DAYLIGHT
BEGIN:STANDARD
TZOFFSETFROM:+1100
TZOFFSETTO:+1000
TZNAME:AEST
DTSTART:20240406T160000
END:STANDARD
BEGIN:DAYLIGHT
TZOFFSETFROM:+1000
TZOFFSETTO:+1100
TZNAME:AEDT
DTSTART:20241005T160000
END:DAYLIGHT
BEGIN:STANDARD
TZOFFSETFROM:+1100
TZOFFSETTO:+1000
TZNAME:AEST
DTSTART:20250405T160000
END:STANDARD
BEGIN:DAYLIGHT
TZOFFSETFROM:+1000
TZOFFSETTO:+1100
TZNAME:AEDT
DTSTART:20251004T160000
END:DAYLIGHT
END:VTIMEZONE
BEGIN:VEVENT
DTSTART;TZID=Australia/Melbourne:20240628T090000
DTEND;TZID=Australia/Melbourne:20240628T150000
DTSTAMP:20260421T225944
CREATED:20240408T050101Z
LAST-MODIFIED:20240408T054920Z
UID:10001487-1719565200-1719586800@southsafe.org.au
SUMMARY:MARAM Adults Using Family Violence Training - Intermediate | No to Violence
DESCRIPTION:This training is suitable for all professionals who have an intermediate role when working with adults using family violence in both non-specialist and specialist services. \nDuring this training\, practitioners will learn to develop safe engagement and appropriate questioning to support identifying\, assessing and managing family violence risk when working with adults using family violence and how and when to use MARAM tools in practice\, including the Adult Using Family Violence Intermediate Assessment Tool\, the Intermediate Safety Plan\, and the Intermediate Risk Management Plan. \nREGISTRATION NOTE: These sessions MUST be booked for two back-to-back consecutive days. Failure to book both sessions may result in your registration being cancelled. \nClick here for more information and to register
URL:https://southsafe.org.au/event/maram-adults-using-family-violence-training-intermediate-no-to-violence/2024-06-28/
LOCATION:Online
CATEGORIES:Adults who use Violence,Family Violence,MARAM,Training
ATTACH;FMTTYPE=image/jpeg:https://southsafe.org.au/wp-content/uploads/2024/04/glenn-carstens-peters-npxXWgQ33ZQ-unsplash.jpg
ORGANIZER;CN="No to Violence":MAILTO:info@ntv.org.au
END:VEVENT
BEGIN:VEVENT
DTSTART;TZID=Australia/Melbourne:20240628T093000
DTEND;TZID=Australia/Melbourne:20240628T163000
DTSTAMP:20260421T225944
CREATED:20240408T054837Z
LAST-MODIFIED:20240408T060059Z
UID:10001517-1719567000-1719592200@southsafe.org.au
SUMMARY:MARAM Adults Using Family Violence Training - Comprehensive | No to Violence
DESCRIPTION:Available for those professionals who hold Comprehensive responsibilities under the MARAM Framework. \nThis training is suitable for professionals requiring a specialist level of skill\, knowledge and expertise in family violence practice with adults using family violence. Professionals who should attend this training include those providing specialist adult using family violence intervention services and programs. Examples include adult using family violence case management\, behaviour change programs\, crisis response services\, specialist targeted programs\, The Orange Door\, or any other response that works with adults using family violence in a specialist capacity. \nDuring this training\, practitioners will learn to develop safe engagement and appropriate questioning to support identifying\, assessing and managing family violence risk when working with adults using family violence and how and when to use MARAM tools in practice\, including the Comprehensive Assessment Tool\, the Predominant Aggressor Identification Tool\, the Comprehensive Safety Plan and the Comprehensive Risk Management Plan. \nPlease note: If you are an Orange Door practitioner\, please do not book into the Comprehensive statewide public training\, you will receive Orange Door specific MARAM Comprehensive Adults Using Family Violence training. Please speak to your Hub Manager for further information on your training dates. \nREGISTRATION NOTE: These sessions MUST be booked for two back-to-back consecutive days. Failure to book both sessions may result in your registration being cancelled. \nClick here for more information and to register
URL:https://southsafe.org.au/event/maram-adults-using-family-violence-training-comprehensive-no-to-violence/2024-06-28/
LOCATION:Online
CATEGORIES:Adults who use Violence,Family Violence,MARAM,Training
ATTACH;FMTTYPE=image/jpeg:https://southsafe.org.au/wp-content/uploads/2024/04/alejandro-escamilla-y83Je1OC6Wc-unsplash.jpg
ORGANIZER;CN="No to Violence":MAILTO:info@ntv.org.au
END:VEVENT
BEGIN:VEVENT
DTSTART;TZID=Australia/Melbourne:20240628T100000
DTEND;TZID=Australia/Melbourne:20240628T130000
DTSTAMP:20260421T225944
CREATED:20240408T055939Z
LAST-MODIFIED:20240408T055939Z
UID:10001525-1719568800-1719579600@southsafe.org.au
SUMMARY:The Five Essential Discussion Tools | No to Violence
DESCRIPTION:Perfect for experienced practitioners who work directly with men using family violence (one on one\, group work or case management) in specialist family violence\, AOD\, mental health and child protection sectors\, this training is designed to refresh and upskill practitioners in de-escalation techniques to reduce harm. \nThe Five Essential Tools are drawn from the experience of specialist work in MBC programs and have been packaged in a way that assists in engaging men in meaningful conversations. The tools include specialist engagement and holding strategies specific to working with men using family violence\, and uniquely applies these tools to face to face\, telephone and online responses. \nClick here to register
URL:https://southsafe.org.au/event/the-five-essential-discussion-tools-no-to-violence-2/2024-06-28/
LOCATION:Online
CATEGORIES:Adults who use Violence,Family Violence,Person Using Violence,Training
ATTACH;FMTTYPE=image/jpeg:https://southsafe.org.au/wp-content/uploads/2024/04/headway-jfR5wu2hMI0-unsplash.jpg
ORGANIZER;CN="No to Violence":MAILTO:info@ntv.org.au
END:VEVENT
END:VCALENDAR